BEGIN:VCALENDAR
VERSION:2.0
PRODID:-//Ray County Library - ECPv6.15.20//NONSGML v1.0//EN
CALSCALE:GREGORIAN
METHOD:PUBLISH
X-WR-CALNAME:Ray County Library
X-ORIGINAL-URL:https://raycountylibrary.missouri.org
X-WR-CALDESC:Events for Ray County Library
REFRESH-INTERVAL;VALUE=DURATION:PT1H
X-Robots-Tag:noindex
X-PUBLISHED-TTL:PT1H
BEGIN:VTIMEZONE
TZID:America/Chicago
BEGIN:DAYLIGHT
TZOFFSETFROM:-0600
TZOFFSETTO:-0500
TZNAME:CDT
DTSTART:20230312T080000
END:DAYLIGHT
BEGIN:STANDARD
TZOFFSETFROM:-0500
TZOFFSETTO:-0600
TZNAME:CST
DTSTART:20231105T070000
END:STANDARD
BEGIN:DAYLIGHT
TZOFFSETFROM:-0600
TZOFFSETTO:-0500
TZNAME:CDT
DTSTART:20240310T080000
END:DAYLIGHT
BEGIN:STANDARD
TZOFFSETFROM:-0500
TZOFFSETTO:-0600
TZNAME:CST
DTSTART:20241103T070000
END:STANDARD
BEGIN:DAYLIGHT
TZOFFSETFROM:-0600
TZOFFSETTO:-0500
TZNAME:CDT
DTSTART:20250309T080000
END:DAYLIGHT
BEGIN:STANDARD
TZOFFSETFROM:-0500
TZOFFSETTO:-0600
TZNAME:CST
DTSTART:20251102T070000
END:STANDARD
BEGIN:DAYLIGHT
TZOFFSETFROM:-0600
TZOFFSETTO:-0500
TZNAME:CDT
DTSTART:20260308T080000
END:DAYLIGHT
BEGIN:STANDARD
TZOFFSETFROM:-0500
TZOFFSETTO:-0600
TZNAME:CST
DTSTART:20261101T070000
END:STANDARD
END:VTIMEZONE
BEGIN:VEVENT
DTSTART;VALUE=DATE:20241209
DTEND;VALUE=DATE:20250216
DTSTAMP:20260422T225901
CREATED:20241206T205025Z
LAST-MODIFIED:20241206T205025Z
UID:2697-1733702400-1739663999@raycountylibrary.missouri.org
SUMMARY:Food for Fines
DESCRIPTION:Food for Fines is back! We’re collecting canned goods and other nonperishables for the Salvation Army from December 9\, 2024 through February 15\, 2025. 1 food item = $1 in forgiven fines.
URL:https://raycountylibrary.missouri.org/event/food-for-fines-3/
CATEGORIES:All Ages
ATTACH;FMTTYPE=image/png:https://raycountylibrary.missouri.org/wp-content/uploads/2024/12/new-Food4Fines-Small.png
END:VEVENT
BEGIN:VEVENT
DTSTART;TZID=America/Chicago:20241211T100000
DTEND;TZID=America/Chicago:20241211T110000
DTSTAMP:20260422T225901
CREATED:20241206T200903Z
LAST-MODIFIED:20241206T200903Z
UID:2686-1733911200-1733914800@raycountylibrary.missouri.org
SUMMARY:Storytime!
DESCRIPTION:Early Literacy Storytime program for toddlers and preschoolers. This session’s theme is reindeer and will include fun stories\, activities\, and a craft!
URL:https://raycountylibrary.missouri.org/event/storytime-93/
LOCATION:Library Community Room
CATEGORIES:Kids
ATTACH;FMTTYPE=image/png:https://raycountylibrary.missouri.org/wp-content/uploads/2024/12/Storytime-Reindeer.png
END:VEVENT
END:VCALENDAR