BEGIN:VCALENDAR
VERSION:2.0
PRODID:-//Ray County Library - ECPv6.15.20//NONSGML v1.0//EN
CALSCALE:GREGORIAN
METHOD:PUBLISH
X-ORIGINAL-URL:https://raycountylibrary.missouri.org
X-WR-CALDESC:Events for Ray County Library
REFRESH-INTERVAL;VALUE=DURATION:PT1H
X-Robots-Tag:noindex
X-PUBLISHED-TTL:PT1H
BEGIN:VTIMEZONE
TZID:America/Chicago
BEGIN:DAYLIGHT
TZOFFSETFROM:-0600
TZOFFSETTO:-0500
TZNAME:CDT
DTSTART:20240310T080000
END:DAYLIGHT
BEGIN:STANDARD
TZOFFSETFROM:-0500
TZOFFSETTO:-0600
TZNAME:CST
DTSTART:20241103T070000
END:STANDARD
BEGIN:DAYLIGHT
TZOFFSETFROM:-0600
TZOFFSETTO:-0500
TZNAME:CDT
DTSTART:20250309T080000
END:DAYLIGHT
BEGIN:STANDARD
TZOFFSETFROM:-0500
TZOFFSETTO:-0600
TZNAME:CST
DTSTART:20251102T070000
END:STANDARD
BEGIN:DAYLIGHT
TZOFFSETFROM:-0600
TZOFFSETTO:-0500
TZNAME:CDT
DTSTART:20260308T080000
END:DAYLIGHT
BEGIN:STANDARD
TZOFFSETFROM:-0500
TZOFFSETTO:-0600
TZNAME:CST
DTSTART:20261101T070000
END:STANDARD
END:VTIMEZONE
BEGIN:VEVENT
DTSTART;VALUE=DATE:20250113
DTEND;VALUE=DATE:20250316
DTSTAMP:20260423T151119
CREATED:20250108T210659Z
LAST-MODIFIED:20250117T215306Z
UID:2819-1736726400-1742083199@raycountylibrary.missouri.org
SUMMARY:Winter Reading Program
DESCRIPTION:Ready\, set\, READ! We encourage readers of all ages to challenge themselves to become reading machines this winter. From Jan. 13-March 15\, Ray County Library is participating in “Be a Reading Machine\,” a reading challenge sponsored by Beanstack and Baker & Taylor. We challenge our community to read and log at least 5 books during the challenge. For adults\, read 5 books for a free mug. Read 10 or more to be eligible for a Corsair airfryer! Children can read 5 books to claim a free book\, a book light\, and a small prize!
URL:https://raycountylibrary.missouri.org/event/winter-reading-program-2/
CATEGORIES:All Ages
ATTACH;FMTTYPE=image/png:https://raycountylibrary.missouri.org/wp-content/uploads/2025/01/Winter-Reading-Program-25-Front.png
END:VEVENT
BEGIN:VEVENT
DTSTART;TZID=America/Chicago:20250220T160000
DTEND;TZID=America/Chicago:20250220T170000
DTSTAMP:20260423T151119
CREATED:20250201T182854Z
LAST-MODIFIED:20250201T182854Z
UID:2891-1740067200-1740070800@raycountylibrary.missouri.org
SUMMARY:Next Chapter Book Club
DESCRIPTION:Helping people with disabilities enjoy books\, friends\, and their community. This is a book club meeting where a selected book will be read and discussed\, in partnership with Special Needs Services of Ray County. Contact the library or Special Needs Services for details regarding joining the book club.
URL:https://raycountylibrary.missouri.org/event/next-chapter-book-club-51/
LOCATION:Library Community Room
CATEGORIES:Adults
ATTACH;FMTTYPE=image/png:https://raycountylibrary.missouri.org/wp-content/uploads/2025/01/Next-Chapter-flyer-2025.png
END:VEVENT
END:VCALENDAR