BEGIN:VCALENDAR
VERSION:2.0
PRODID:-//Ray County Library - ECPv6.15.20//NONSGML v1.0//EN
CALSCALE:GREGORIAN
METHOD:PUBLISH
X-ORIGINAL-URL:https://raycountylibrary.missouri.org
X-WR-CALDESC:Events for Ray County Library
REFRESH-INTERVAL;VALUE=DURATION:PT1H
X-Robots-Tag:noindex
X-PUBLISHED-TTL:PT1H
BEGIN:VTIMEZONE
TZID:America/Chicago
BEGIN:DAYLIGHT
TZOFFSETFROM:-0600
TZOFFSETTO:-0500
TZNAME:CDT
DTSTART:20240310T080000
END:DAYLIGHT
BEGIN:STANDARD
TZOFFSETFROM:-0500
TZOFFSETTO:-0600
TZNAME:CST
DTSTART:20241103T070000
END:STANDARD
BEGIN:DAYLIGHT
TZOFFSETFROM:-0600
TZOFFSETTO:-0500
TZNAME:CDT
DTSTART:20250309T080000
END:DAYLIGHT
BEGIN:STANDARD
TZOFFSETFROM:-0500
TZOFFSETTO:-0600
TZNAME:CST
DTSTART:20251102T070000
END:STANDARD
BEGIN:DAYLIGHT
TZOFFSETFROM:-0600
TZOFFSETTO:-0500
TZNAME:CDT
DTSTART:20260308T080000
END:DAYLIGHT
BEGIN:STANDARD
TZOFFSETFROM:-0500
TZOFFSETTO:-0600
TZNAME:CST
DTSTART:20261101T070000
END:STANDARD
END:VTIMEZONE
BEGIN:VEVENT
DTSTART;TZID=America/Chicago:20250416T100000
DTEND;TZID=America/Chicago:20250416T110000
DTSTAMP:20260425T054228
CREATED:20250402T224334Z
LAST-MODIFIED:20250402T224334Z
UID:3073-1744797600-1744801200@raycountylibrary.missouri.org
SUMMARY:Storytime!
DESCRIPTION:Research shows that children benefit from active participation in early learning activities. Bring your children to this event for stories and craft activities. This week’s theme is Easter!
URL:https://raycountylibrary.missouri.org/event/storytime-109/
LOCATION:Library Community Room
CATEGORIES:Kids
ATTACH;FMTTYPE=image/png:https://raycountylibrary.missouri.org/wp-content/uploads/2025/04/Storytime-416-Easter.png
END:VEVENT
BEGIN:VEVENT
DTSTART;TZID=America/Chicago:20250416T170000
DTEND;TZID=America/Chicago:20250416T174500
DTSTAMP:20260425T054228
CREATED:20250318T181647Z
LAST-MODIFIED:20250319T163411Z
UID:3020-1744822800-1744825500@raycountylibrary.missouri.org
SUMMARY:Seed Starting Workshop: Community Connections Event
DESCRIPTION:  \nSeed Starting Workshop: Community Connections Event \nJoin us for a hands-on gardening workshop presented by the MU Extension Horticulture Team! This program is the first in a series to learn to grow your own food in collaboration with Community at Play and the Richmond Salvation Army.  Attendees will also be able to sign up to use a new community garden in Richmond\, MO. \nAttendees will learn how to successfully start seeds at home for transplanting into the garden. Each participant will leave with planted seeds. \nWorkshop Highlights: \n\nInteractive Learning\nPros and Cons of Seed Starting\nExpert Guidance\n\nDate: April 16th \nTime: 5:00pm-5:45pm \nRegister to attend: https://forms.gle/cD8ZKbki2MtWnSiN8
URL:https://raycountylibrary.missouri.org/event/seed-starting-workshop-community-connections-event/
LOCATION:Library Community Room
CATEGORIES:All Ages
ATTACH;FMTTYPE=image/png:https://raycountylibrary.missouri.org/wp-content/uploads/2025/03/Community-Connections-Event-Flyer-Final.png
END:VEVENT
END:VCALENDAR