BEGIN:VCALENDAR
VERSION:2.0
PRODID:-//Ray County Library - ECPv6.15.20//NONSGML v1.0//EN
CALSCALE:GREGORIAN
METHOD:PUBLISH
X-WR-CALNAME:Ray County Library
X-ORIGINAL-URL:https://raycountylibrary.missouri.org
X-WR-CALDESC:Events for Ray County Library
REFRESH-INTERVAL;VALUE=DURATION:PT1H
X-Robots-Tag:noindex
X-PUBLISHED-TTL:PT1H
BEGIN:VTIMEZONE
TZID:America/Chicago
BEGIN:DAYLIGHT
TZOFFSETFROM:-0600
TZOFFSETTO:-0500
TZNAME:CDT
DTSTART:20240310T080000
END:DAYLIGHT
BEGIN:STANDARD
TZOFFSETFROM:-0500
TZOFFSETTO:-0600
TZNAME:CST
DTSTART:20241103T070000
END:STANDARD
BEGIN:DAYLIGHT
TZOFFSETFROM:-0600
TZOFFSETTO:-0500
TZNAME:CDT
DTSTART:20250309T080000
END:DAYLIGHT
BEGIN:STANDARD
TZOFFSETFROM:-0500
TZOFFSETTO:-0600
TZNAME:CST
DTSTART:20251102T070000
END:STANDARD
BEGIN:DAYLIGHT
TZOFFSETFROM:-0600
TZOFFSETTO:-0500
TZNAME:CDT
DTSTART:20260308T080000
END:DAYLIGHT
BEGIN:STANDARD
TZOFFSETFROM:-0500
TZOFFSETTO:-0600
TZNAME:CST
DTSTART:20261101T070000
END:STANDARD
END:VTIMEZONE
BEGIN:VEVENT
DTSTART;VALUE=DATE:20250602
DTEND;VALUE=DATE:20250810
DTSTAMP:20260424T091602
CREATED:20250603T150023Z
LAST-MODIFIED:20250603T150209Z
UID:3274-1748822400-1754783999@raycountylibrary.missouri.org
SUMMARY:Summer Reading Program!
DESCRIPTION:Be Inspired\, get creative\, and branch out with your reading this summer as we Color Our World!  With this year’s theme\, we want readers to be inspired and imaginative as they select their reading materials and attend related events. \nThere are two programs\, one for adults and one for children and teens aged 0-18 years.  Participants who register for the program and children/teens who log 600 minutes of reading and adults who log 5 books can earn badges\, free books\, and a chance to win one of this year’s great prizes. \nLog in/register here! \nVisit the ‘Summer Reading” tab at the top of the webpage for more information!
URL:https://raycountylibrary.missouri.org/event/summer-reading-program/
CATEGORIES:All Ages
ATTACH;FMTTYPE=image/png:https://raycountylibrary.missouri.org/wp-content/uploads/2025/06/SRP-2025-Draft.png
END:VEVENT
BEGIN:VEVENT
DTSTART;VALUE=DATE:20250604
DTEND;VALUE=DATE:20250821
DTSTAMP:20260424T091602
CREATED:20250610T142806Z
LAST-MODIFIED:20250610T142806Z
UID:3330-1748995200-1755734399@raycountylibrary.missouri.org
SUMMARY:Food for Fines
DESCRIPTION:Food for Fines is back! We’re collecting canned goods and other nonperishables for the Salvation Army from June 4\, 2025 through August 20\, 2025. 1 food item = $1 in forgiven fines!
URL:https://raycountylibrary.missouri.org/event/food-for-fines-4/
LOCATION:Ray County Library\, 215 E Lexington St\, Richmond\, MO\, 64085\, United States
CATEGORIES:All Ages
ATTACH;FMTTYPE=image/png:https://raycountylibrary.missouri.org/wp-content/uploads/2025/06/new-Food4Fines-Small.png
END:VEVENT
BEGIN:VEVENT
DTSTART;TZID=America/Chicago:20250710T160000
DTEND;TZID=America/Chicago:20250710T170000
DTSTAMP:20260424T091602
CREATED:20250702T154007Z
LAST-MODIFIED:20250702T155726Z
UID:3397-1752163200-1752166800@raycountylibrary.missouri.org
SUMMARY:Mad Science Presents: Lights\, Color\, Action Hands-on Workshop!
DESCRIPTION:Join us Thursday\, July 10 as MAD Science presents Lights\, Color\, Action! This hands-on workshop for kids 6-12 will explore the color spectrum with prisms and diffraction glasses\, and blend colors to produce white light and split white light into colors. Event spots are limited\, so please RSVP with a librarian or register online here: https://forms.gle/idVNEJxTKKNQ9H3R9
URL:https://raycountylibrary.missouri.org/event/mad-science-presents-lights-color-action-hands-on-workshop/
LOCATION:Library Community Room
CATEGORIES:Kids
ATTACH;FMTTYPE=image/png:https://raycountylibrary.missouri.org/wp-content/uploads/2025/07/7.10-MAD-Science-Lights-Color-Action.png
END:VEVENT
BEGIN:VEVENT
DTSTART;TZID=America/Chicago:20250710T160000
DTEND;TZID=America/Chicago:20250710T170000
DTSTAMP:20260424T091602
CREATED:20250702T154227Z
LAST-MODIFIED:20250702T154227Z
UID:3400-1752163200-1752166800@raycountylibrary.missouri.org
SUMMARY:Next Chapter Book Club
DESCRIPTION:Helping people with disabilities enjoy books\, friends\, and their community. This is a book club meeting where a selected book will be read and discussed\, in partnership with Special Needs Services of Ray County. Contact the library or Special Needs Services for details regarding joining the book club.
URL:https://raycountylibrary.missouri.org/event/next-chapter-book-club-61/
LOCATION:Microfilm Room\, 215 E Lexington\, Richmond\, MO\, 64085\, United States
CATEGORIES:Adults
ATTACH;FMTTYPE=image/png:https://raycountylibrary.missouri.org/wp-content/uploads/2025/07/7.10-next-chapter-book-club.png
END:VEVENT
END:VCALENDAR