BEGIN:VCALENDAR
VERSION:2.0
PRODID:-//Ray County Library - ECPv6.15.20//NONSGML v1.0//EN
CALSCALE:GREGORIAN
METHOD:PUBLISH
X-ORIGINAL-URL:https://raycountylibrary.missouri.org
X-WR-CALDESC:Events for Ray County Library
REFRESH-INTERVAL;VALUE=DURATION:PT1H
X-Robots-Tag:noindex
X-PUBLISHED-TTL:PT1H
BEGIN:VTIMEZONE
TZID:America/Chicago
BEGIN:DAYLIGHT
TZOFFSETFROM:-0600
TZOFFSETTO:-0500
TZNAME:CDT
DTSTART:20220313T080000
END:DAYLIGHT
BEGIN:STANDARD
TZOFFSETFROM:-0500
TZOFFSETTO:-0600
TZNAME:CST
DTSTART:20221106T070000
END:STANDARD
BEGIN:DAYLIGHT
TZOFFSETFROM:-0600
TZOFFSETTO:-0500
TZNAME:CDT
DTSTART:20230312T080000
END:DAYLIGHT
BEGIN:STANDARD
TZOFFSETFROM:-0500
TZOFFSETTO:-0600
TZNAME:CST
DTSTART:20231105T070000
END:STANDARD
BEGIN:DAYLIGHT
TZOFFSETFROM:-0600
TZOFFSETTO:-0500
TZNAME:CDT
DTSTART:20240310T080000
END:DAYLIGHT
BEGIN:STANDARD
TZOFFSETFROM:-0500
TZOFFSETTO:-0600
TZNAME:CST
DTSTART:20241103T070000
END:STANDARD
END:VTIMEZONE
BEGIN:VEVENT
DTSTART;TZID=America/Chicago:20230206T170000
DTEND;TZID=America/Chicago:20230206T180000
DTSTAMP:20260424T104227
CREATED:20230206T192703Z
LAST-MODIFIED:20230206T192703Z
UID:878-1675702800-1675706400@raycountylibrary.missouri.org
SUMMARY:Ray County Library Board of Trustees Meeting
DESCRIPTION:Regular Monthly Meeting of the Ray County Library Board of Trustees.
URL:https://raycountylibrary.missouri.org/event/ray-county-library-board-of-trustees-meeting-5/
LOCATION:Library Community Room
CATEGORIES:Adults
END:VEVENT
BEGIN:VEVENT
DTSTART;TZID=America/Chicago:20230207T180000
DTEND;TZID=America/Chicago:20230207T190000
DTSTAMP:20260424T104227
CREATED:20230206T194222Z
LAST-MODIFIED:20230206T194222Z
UID:881-1675792800-1675796400@raycountylibrary.missouri.org
SUMMARY:Book Club
DESCRIPTION:Book Club Meeting where a selected book will be discussed. This month’s book is “Always” by Sarah Jio. Members can also pick up next month’s book\, “The Alice Network” by Kate Quinn. Contact the library for details regarding joining the book club.
URL:https://raycountylibrary.missouri.org/event/book-club-5/
LOCATION:Library Community Room
CATEGORIES:Adults
ATTACH;FMTTYPE=image/png:https://raycountylibrary.missouri.org/wp-content/uploads/2023/02/BOOK-CLUB.png
END:VEVENT
BEGIN:VEVENT
DTSTART;TZID=America/Chicago:20230214T180000
DTEND;TZID=America/Chicago:20230214T190000
DTSTAMP:20260424T104227
CREATED:20230206T201945Z
LAST-MODIFIED:20230206T201945Z
UID:894-1676397600-1676401200@raycountylibrary.missouri.org
SUMMARY:Craft Night: Diamond Painting
DESCRIPTION:Join us Tuesday\, February 14th from 6 to 6:45 pm to do a diamond painting! This is a simple craft that’s easy to do and allows room for creativity in style. All supplies will be provided.
URL:https://raycountylibrary.missouri.org/event/craft-night-diamond-painting/
LOCATION:Library Community Room
CATEGORIES:Adults
ATTACH;FMTTYPE=image/png:https://raycountylibrary.missouri.org/wp-content/uploads/2023/02/Craft-Night.png
END:VEVENT
END:VCALENDAR