BEGIN:VCALENDAR
VERSION:2.0
PRODID:-//Ray County Library - ECPv6.15.20//NONSGML v1.0//EN
CALSCALE:GREGORIAN
METHOD:PUBLISH
X-WR-CALNAME:Ray County Library
X-ORIGINAL-URL:https://raycountylibrary.missouri.org
X-WR-CALDESC:Events for Ray County Library
REFRESH-INTERVAL;VALUE=DURATION:PT1H
X-Robots-Tag:noindex
X-PUBLISHED-TTL:PT1H
BEGIN:VTIMEZONE
TZID:America/Chicago
BEGIN:DAYLIGHT
TZOFFSETFROM:-0600
TZOFFSETTO:-0500
TZNAME:CDT
DTSTART:20220313T080000
END:DAYLIGHT
BEGIN:STANDARD
TZOFFSETFROM:-0500
TZOFFSETTO:-0600
TZNAME:CST
DTSTART:20221106T070000
END:STANDARD
BEGIN:DAYLIGHT
TZOFFSETFROM:-0600
TZOFFSETTO:-0500
TZNAME:CDT
DTSTART:20230312T080000
END:DAYLIGHT
BEGIN:STANDARD
TZOFFSETFROM:-0500
TZOFFSETTO:-0600
TZNAME:CST
DTSTART:20231105T070000
END:STANDARD
BEGIN:DAYLIGHT
TZOFFSETFROM:-0600
TZOFFSETTO:-0500
TZNAME:CDT
DTSTART:20240310T080000
END:DAYLIGHT
BEGIN:STANDARD
TZOFFSETFROM:-0500
TZOFFSETTO:-0600
TZNAME:CST
DTSTART:20241103T070000
END:STANDARD
END:VTIMEZONE
BEGIN:VEVENT
DTSTART;TZID=America/Chicago:20230306T170000
DTEND;TZID=America/Chicago:20230306T180000
DTSTAMP:20260424T104120
CREATED:20230303T214523Z
LAST-MODIFIED:20230303T214523Z
UID:933-1678122000-1678125600@raycountylibrary.missouri.org
SUMMARY:Ray County Library Board of Trustees Meeting
DESCRIPTION:Regular Monthly Meeting of the Ray County Library Board of Trustees.
URL:https://raycountylibrary.missouri.org/event/ray-county-library-board-of-trustees-meeting-6/
LOCATION:Library Community Room
CATEGORIES:Adults
END:VEVENT
BEGIN:VEVENT
DTSTART;TZID=America/Chicago:20230307T180000
DTEND;TZID=America/Chicago:20230307T190000
DTSTAMP:20260424T104120
CREATED:20230303T215133Z
LAST-MODIFIED:20230303T215133Z
UID:935-1678212000-1678215600@raycountylibrary.missouri.org
SUMMARY:Book Club
DESCRIPTION:Book Club Meeting where a selected book will be discussed. This month’s book is “The Alice Network” by Kate Quinn. Members can also pick up next month’s book\, “American Heart” by Laura Moriarty. Contact the library for details regarding joining the book club.
URL:https://raycountylibrary.missouri.org/event/book-club-6/
LOCATION:Library Community Room
CATEGORIES:Adults
ATTACH;FMTTYPE=image/png:https://raycountylibrary.missouri.org/wp-content/uploads/2023/03/BOOK-CLUB.png
END:VEVENT
BEGIN:VEVENT
DTSTART;TZID=America/Chicago:20230314T180000
DTEND;TZID=America/Chicago:20230314T190000
DTSTAMP:20260424T104120
CREATED:20230304T181203Z
LAST-MODIFIED:20230308T163403Z
UID:954-1678816800-1678820400@raycountylibrary.missouri.org
SUMMARY:Craft Night: Stenciling Tote Bags
DESCRIPTION:This month we will be making stenciled tote bags.  This will be a simple craft that offers allows room for creativity in style. All supplies will be provided.  Click here to register to attend.
URL:https://raycountylibrary.missouri.org/event/craft-night-stenciling-tote-bags/
LOCATION:Library Community Room
CATEGORIES:Adults
ATTACH;FMTTYPE=image/png:https://raycountylibrary.missouri.org/wp-content/uploads/2023/03/Crafting-for-Adults-Stenciling-Tote-Bags-1.png
END:VEVENT
END:VCALENDAR