BEGIN:VCALENDAR
VERSION:2.0
PRODID:-//Ray County Library - ECPv6.15.20//NONSGML v1.0//EN
CALSCALE:GREGORIAN
METHOD:PUBLISH
X-ORIGINAL-URL:https://raycountylibrary.missouri.org
X-WR-CALDESC:Events for Ray County Library
REFRESH-INTERVAL;VALUE=DURATION:PT1H
X-Robots-Tag:noindex
X-PUBLISHED-TTL:PT1H
BEGIN:VTIMEZONE
TZID:America/Chicago
BEGIN:DAYLIGHT
TZOFFSETFROM:-0600
TZOFFSETTO:-0500
TZNAME:CDT
DTSTART:20220313T080000
END:DAYLIGHT
BEGIN:STANDARD
TZOFFSETFROM:-0500
TZOFFSETTO:-0600
TZNAME:CST
DTSTART:20221106T070000
END:STANDARD
BEGIN:DAYLIGHT
TZOFFSETFROM:-0600
TZOFFSETTO:-0500
TZNAME:CDT
DTSTART:20230312T080000
END:DAYLIGHT
BEGIN:STANDARD
TZOFFSETFROM:-0500
TZOFFSETTO:-0600
TZNAME:CST
DTSTART:20231105T070000
END:STANDARD
BEGIN:DAYLIGHT
TZOFFSETFROM:-0600
TZOFFSETTO:-0500
TZNAME:CDT
DTSTART:20240310T080000
END:DAYLIGHT
BEGIN:STANDARD
TZOFFSETFROM:-0500
TZOFFSETTO:-0600
TZNAME:CST
DTSTART:20241103T070000
END:STANDARD
END:VTIMEZONE
BEGIN:VEVENT
DTSTART;TZID=America/Chicago:20230711T180000
DTEND;TZID=America/Chicago:20230711T190000
DTSTAMP:20260424T110457
CREATED:20230627T170203Z
LAST-MODIFIED:20230627T170203Z
UID:1287-1689098400-1689102000@raycountylibrary.missouri.org
SUMMARY:Book Club
DESCRIPTION:Book Club Meeting where a selected book will be discussed. This month’s book is “The Bear and the Nightingale” by Katherine Arden. Members can also pick up next month’s book\, “The Glass Hotel” by Emily St John Mandel. Contact the library for details regarding joining the book club.
URL:https://raycountylibrary.missouri.org/event/book-club-10/
LOCATION:Library Community Room
CATEGORIES:Adults
ATTACH;FMTTYPE=image/png:https://raycountylibrary.missouri.org/wp-content/uploads/2023/06/BOOK-CLUB.png
END:VEVENT
BEGIN:VEVENT
DTSTART;TZID=America/Chicago:20230713T160000
DTEND;TZID=America/Chicago:20230713T170000
DTSTAMP:20260424T110457
CREATED:20230627T170859Z
LAST-MODIFIED:20230627T170859Z
UID:1298-1689264000-1689267600@raycountylibrary.missouri.org
SUMMARY:Next Chapter Book Club
DESCRIPTION:Helping people with disabilities enjoy books\, friends\, and their community. This is a book club meeting where a selected book will be read and discussed\, in partnership with Special Needs Services of Ray County. The current book is “Wonder” by R. J. Palacio. Contact the library or Special Needs Services for details regarding joining the book club.
URL:https://raycountylibrary.missouri.org/event/next-chapter-book-club-22/
LOCATION:Library Community Room
CATEGORIES:Adults
ATTACH;FMTTYPE=image/png:https://raycountylibrary.missouri.org/wp-content/uploads/2023/05/Next-Chapter-Book-Club-Flyer.png
END:VEVENT
BEGIN:VEVENT
DTSTART;TZID=America/Chicago:20230717T170000
DTEND;TZID=America/Chicago:20230717T180000
DTSTAMP:20260424T110457
CREATED:20230627T164410Z
LAST-MODIFIED:20230710T163056Z
UID:1285-1689613200-1689616800@raycountylibrary.missouri.org
SUMMARY:Ray County Library Board of Trustees Meeting
DESCRIPTION:Rescheduled Monthly Meeting of the Ray County Library Board of Trustees.  The meeting was rescheduled from July 10th due to lack of a quorum.
URL:https://raycountylibrary.missouri.org/event/ray-county-library-board-of-trustees-meeting-10/
LOCATION:Library Community Room
CATEGORIES:Adults
END:VEVENT
BEGIN:VEVENT
DTSTART;TZID=America/Chicago:20230718T180000
DTEND;TZID=America/Chicago:20230718T190000
DTSTAMP:20260424T110457
CREATED:20230713T202253Z
LAST-MODIFIED:20230713T202253Z
UID:1311-1689703200-1689706800@raycountylibrary.missouri.org
SUMMARY:Crafting for Adults: Air-Dry Clay
DESCRIPTION:This month’s craft is air-dry clay! This will be a relaxing evening that offers allows room for creativity in style. All supplies will be provided.  Click here to register to attend.
URL:https://raycountylibrary.missouri.org/event/crafting-for-adults-air-dry-clay/
LOCATION:Library Community Room
CATEGORIES:Adults
ATTACH;FMTTYPE=image/png:https://raycountylibrary.missouri.org/wp-content/uploads/2023/07/Craft-Night-Air-Dry-Clay.png
END:VEVENT
BEGIN:VEVENT
DTSTART;TZID=America/Chicago:20230727T160000
DTEND;TZID=America/Chicago:20230727T170000
DTSTAMP:20260424T110457
CREATED:20230718T170710Z
LAST-MODIFIED:20230718T170710Z
UID:1345-1690473600-1690477200@raycountylibrary.missouri.org
SUMMARY:Next Chapter Book Club
DESCRIPTION:Helping people with disabilities enjoy books\, friends\, and their community. This is a book club meeting where a selected book will be read and discussed\, in partnership with Special Needs Services of Ray County. The current book is “Wonder” by R. J. Palacio. Contact the library or Special Needs Services for details regarding joining the book club.
URL:https://raycountylibrary.missouri.org/event/next-chapter-book-club-23/
LOCATION:Library Community Room
CATEGORIES:Adults
ATTACH;FMTTYPE=image/png:https://raycountylibrary.missouri.org/wp-content/uploads/2023/05/Next-Chapter-Book-Club-Flyer.png
END:VEVENT
END:VCALENDAR