BEGIN:VCALENDAR
VERSION:2.0
PRODID:-//Ray County Library - ECPv6.15.20//NONSGML v1.0//EN
CALSCALE:GREGORIAN
METHOD:PUBLISH
X-WR-CALNAME:Ray County Library
X-ORIGINAL-URL:https://raycountylibrary.missouri.org
X-WR-CALDESC:Events for Ray County Library
REFRESH-INTERVAL;VALUE=DURATION:PT1H
X-Robots-Tag:noindex
X-PUBLISHED-TTL:PT1H
BEGIN:VTIMEZONE
TZID:America/Chicago
BEGIN:DAYLIGHT
TZOFFSETFROM:-0600
TZOFFSETTO:-0500
TZNAME:CDT
DTSTART:20220313T080000
END:DAYLIGHT
BEGIN:STANDARD
TZOFFSETFROM:-0500
TZOFFSETTO:-0600
TZNAME:CST
DTSTART:20221106T070000
END:STANDARD
BEGIN:DAYLIGHT
TZOFFSETFROM:-0600
TZOFFSETTO:-0500
TZNAME:CDT
DTSTART:20230312T080000
END:DAYLIGHT
BEGIN:STANDARD
TZOFFSETFROM:-0500
TZOFFSETTO:-0600
TZNAME:CST
DTSTART:20231105T070000
END:STANDARD
BEGIN:DAYLIGHT
TZOFFSETFROM:-0600
TZOFFSETTO:-0500
TZNAME:CDT
DTSTART:20240310T080000
END:DAYLIGHT
BEGIN:STANDARD
TZOFFSETFROM:-0500
TZOFFSETTO:-0600
TZNAME:CST
DTSTART:20241103T070000
END:STANDARD
END:VTIMEZONE
BEGIN:VEVENT
DTSTART;TZID=America/Chicago:20230801T180000
DTEND;TZID=America/Chicago:20230801T190000
DTSTAMP:20260425T103348
CREATED:20230727T203920Z
LAST-MODIFIED:20230727T204217Z
UID:1357-1690912800-1690916400@raycountylibrary.missouri.org
SUMMARY:Book Club
DESCRIPTION:Book Club Meeting where a selected book will be discussed. This month’s book is “The Glass Hotel” by Emily St. John Mandel. Members can also pick up next month’s book\, “The Unlikely Pilgrimage of Harold Fry” by Rachel Joyce. Contact the library for details regarding joining the book club.
URL:https://raycountylibrary.missouri.org/event/book-club-11/
LOCATION:Library Community Room
CATEGORIES:Adults
ATTACH;FMTTYPE=image/png:https://raycountylibrary.missouri.org/wp-content/uploads/2023/06/BOOK-CLUB.png
END:VEVENT
BEGIN:VEVENT
DTSTART;TZID=America/Chicago:20230808T180000
DTEND;TZID=America/Chicago:20230808T190000
DTSTAMP:20260425T103348
CREATED:20230802T193017Z
LAST-MODIFIED:20230802T193017Z
UID:1376-1691517600-1691521200@raycountylibrary.missouri.org
SUMMARY:Crafting for Adults: Beaded Bracelets
DESCRIPTION:This month’s craft will be beaded bracelets.  This will be a relaxing evening that offers allows room for creativity in style. All supplies will be provided.  Click here to register to attend.
URL:https://raycountylibrary.missouri.org/event/crafting-for-adults-beaded-bracelets/
LOCATION:Library Community Room
CATEGORIES:Adults
ATTACH;FMTTYPE=image/png:https://raycountylibrary.missouri.org/wp-content/uploads/2023/08/Craft-Night-Beaded-Bracelets.png
END:VEVENT
BEGIN:VEVENT
DTSTART;TZID=America/Chicago:20230810T160000
DTEND;TZID=America/Chicago:20230810T170000
DTSTAMP:20260425T103348
CREATED:20230802T193643Z
LAST-MODIFIED:20230802T193643Z
UID:1386-1691683200-1691686800@raycountylibrary.missouri.org
SUMMARY:Next Chapter Book Club
DESCRIPTION:Helping people with disabilities enjoy books\, friends\, and their community. This is a book club meeting where a selected book will be read and discussed\, in partnership with Special Needs Services of Ray County. The current book is “Wonder” by R. J. Palacio. Contact the library or Special Needs Services for details regarding joining the book club.
URL:https://raycountylibrary.missouri.org/event/next-chapter-book-club-24/
LOCATION:Library Community Room
CATEGORIES:Adults
ATTACH;FMTTYPE=image/png:https://raycountylibrary.missouri.org/wp-content/uploads/2023/05/Next-Chapter-Book-Club-Flyer.png
END:VEVENT
BEGIN:VEVENT
DTSTART;TZID=America/Chicago:20230824T160000
DTEND;TZID=America/Chicago:20230824T170000
DTSTAMP:20260425T103348
CREATED:20230802T195451Z
LAST-MODIFIED:20230802T195451Z
UID:1414-1692892800-1692896400@raycountylibrary.missouri.org
SUMMARY:Next Chapter Book Club
DESCRIPTION:Helping people with disabilities enjoy books\, friends\, and their community. This is a book club meeting where a selected book will be read and discussed\, in partnership with Special Needs Services of Ray County. The current book is “Wonder” by R. J. Palacio. Contact the library or Special Needs Services for details regarding joining the book club.
URL:https://raycountylibrary.missouri.org/event/next-chapter-book-club-25/
LOCATION:Library Community Room
CATEGORIES:Adults
ATTACH;FMTTYPE=image/png:https://raycountylibrary.missouri.org/wp-content/uploads/2023/05/Next-Chapter-Book-Club-Flyer.png
END:VEVENT
BEGIN:VEVENT
DTSTART;TZID=America/Chicago:20230828T170000
DTEND;TZID=America/Chicago:20230828T180000
DTSTAMP:20260425T103348
CREATED:20230802T195546Z
LAST-MODIFIED:20230802T195546Z
UID:1416-1693242000-1693245600@raycountylibrary.missouri.org
SUMMARY:Ray County Library Board of Trustees Meeting
DESCRIPTION:Regular Meeting of the Library Board of Trustees​ and Tax Levy Meeting
URL:https://raycountylibrary.missouri.org/event/ray-county-library-board-of-trustees-meeting-11/
LOCATION:Library Community Room
CATEGORIES:Adults
END:VEVENT
END:VCALENDAR