BEGIN:VCALENDAR
VERSION:2.0
PRODID:-//Ray County Library - ECPv6.15.20//NONSGML v1.0//EN
CALSCALE:GREGORIAN
METHOD:PUBLISH
X-ORIGINAL-URL:https://raycountylibrary.missouri.org
X-WR-CALDESC:Events for Ray County Library
REFRESH-INTERVAL;VALUE=DURATION:PT1H
X-Robots-Tag:noindex
X-PUBLISHED-TTL:PT1H
BEGIN:VTIMEZONE
TZID:America/Chicago
BEGIN:DAYLIGHT
TZOFFSETFROM:-0600
TZOFFSETTO:-0500
TZNAME:CDT
DTSTART:20220313T080000
END:DAYLIGHT
BEGIN:STANDARD
TZOFFSETFROM:-0500
TZOFFSETTO:-0600
TZNAME:CST
DTSTART:20221106T070000
END:STANDARD
BEGIN:DAYLIGHT
TZOFFSETFROM:-0600
TZOFFSETTO:-0500
TZNAME:CDT
DTSTART:20230312T080000
END:DAYLIGHT
BEGIN:STANDARD
TZOFFSETFROM:-0500
TZOFFSETTO:-0600
TZNAME:CST
DTSTART:20231105T070000
END:STANDARD
BEGIN:DAYLIGHT
TZOFFSETFROM:-0600
TZOFFSETTO:-0500
TZNAME:CDT
DTSTART:20240310T080000
END:DAYLIGHT
BEGIN:STANDARD
TZOFFSETFROM:-0500
TZOFFSETTO:-0600
TZNAME:CST
DTSTART:20241103T070000
END:STANDARD
END:VTIMEZONE
BEGIN:VEVENT
DTSTART;TZID=America/Chicago:20231204T170000
DTEND;TZID=America/Chicago:20231204T180000
DTSTAMP:20260425T225235
CREATED:20231201T230050Z
LAST-MODIFIED:20231201T230050Z
UID:1642-1701709200-1701712800@raycountylibrary.missouri.org
SUMMARY:Library Board Meeting
DESCRIPTION:Monthly Meeting of the Ray County Library Board of Trustees.
URL:https://raycountylibrary.missouri.org/event/library-board-meeting/
LOCATION:Library Community Room
CATEGORIES:Adults
END:VEVENT
BEGIN:VEVENT
DTSTART;TZID=America/Chicago:20231205T180000
DTEND;TZID=America/Chicago:20231205T190000
DTSTAMP:20260425T225235
CREATED:20231201T230438Z
LAST-MODIFIED:20231201T230438Z
UID:1644-1701799200-1701802800@raycountylibrary.missouri.org
SUMMARY:Book Club
DESCRIPTION:Book Club Meeting where a selected book will be discussed. This month’s book is “The Removed” by Brandon Hobson. Members can also pick up next month’s book\, “Down the River Unto the Sea” by Walter Mosley. Contact the library for details regarding joining the book club.
URL:https://raycountylibrary.missouri.org/event/book-club-15/
LOCATION:Reading Room
CATEGORIES:Adults
ATTACH;FMTTYPE=image/png:https://raycountylibrary.missouri.org/wp-content/uploads/2023/12/December-Book-Club.png
END:VEVENT
BEGIN:VEVENT
DTSTART;TZID=America/Chicago:20231212T180000
DTEND;TZID=America/Chicago:20231212T190000
DTSTAMP:20260425T225235
CREATED:20231201T232504Z
LAST-MODIFIED:20231201T232633Z
UID:1655-1702404000-1702407600@raycountylibrary.missouri.org
SUMMARY:Crafting for Adults: Glitter Ornaments
DESCRIPTION:This month’s craft will be making glitter ornaments! This will be a relaxing evening that offers allows room for creativity in style. All supplies will be provided. Click here to register to attend.
URL:https://raycountylibrary.missouri.org/event/crafting-for-adults-glitter-ornaments/
LOCATION:Library Community Room
CATEGORIES:Adults
ATTACH;FMTTYPE=image/png:https://raycountylibrary.missouri.org/wp-content/uploads/2023/12/Craft-Night-Glitter-Ornaments.png
END:VEVENT
BEGIN:VEVENT
DTSTART;TZID=America/Chicago:20231214T160000
DTEND;TZID=America/Chicago:20231214T170000
DTSTAMP:20260425T225235
CREATED:20231213T222454Z
LAST-MODIFIED:20231213T222454Z
UID:1672-1702569600-1702573200@raycountylibrary.missouri.org
SUMMARY:Next Chapter Book Club
DESCRIPTION:Helping people with disabilities enjoy books\, friends\, and their community. This is a book club meeting where a selected book will be read and discussed\, in partnership with Special Needs Services of Ray County. Contact the library or Special Needs Services for details regarding joining the book club.
URL:https://raycountylibrary.missouri.org/event/next-chapter-book-club-32/
LOCATION:Library Community Room
CATEGORIES:Adults
ATTACH;FMTTYPE=image/png:https://raycountylibrary.missouri.org/wp-content/uploads/2023/10/Orange-Illustrated-Fall-Festival-Invitation-Flyer.png
END:VEVENT
BEGIN:VEVENT
DTSTART;TZID=America/Chicago:20231228T160000
DTEND;TZID=America/Chicago:20231228T170000
DTSTAMP:20260425T225235
CREATED:20231226T184051Z
LAST-MODIFIED:20231226T184051Z
UID:1715-1703779200-1703782800@raycountylibrary.missouri.org
SUMMARY:Next Chapter Book Club
DESCRIPTION:Helping people with disabilities enjoy books\, friends\, and their community. This is a book club meeting where a selected book will be read and discussed\, in partnership with Special Needs Services of Ray County. Contact the library or Special Needs Services for details regarding joining the book club.
URL:https://raycountylibrary.missouri.org/event/next-chapter-book-club-33/
LOCATION:Library Community Room
CATEGORIES:Adults
ATTACH;FMTTYPE=image/png:https://raycountylibrary.missouri.org/wp-content/uploads/2023/10/Orange-Illustrated-Fall-Festival-Invitation-Flyer.png
END:VEVENT
END:VCALENDAR