BEGIN:VCALENDAR
VERSION:2.0
PRODID:-//Ray County Library - ECPv6.15.20//NONSGML v1.0//EN
CALSCALE:GREGORIAN
METHOD:PUBLISH
X-WR-CALNAME:Ray County Library
X-ORIGINAL-URL:https://raycountylibrary.missouri.org
X-WR-CALDESC:Events for Ray County Library
REFRESH-INTERVAL;VALUE=DURATION:PT1H
X-Robots-Tag:noindex
X-PUBLISHED-TTL:PT1H
BEGIN:VTIMEZONE
TZID:America/Chicago
BEGIN:DAYLIGHT
TZOFFSETFROM:-0600
TZOFFSETTO:-0500
TZNAME:CDT
DTSTART:20230312T080000
END:DAYLIGHT
BEGIN:STANDARD
TZOFFSETFROM:-0500
TZOFFSETTO:-0600
TZNAME:CST
DTSTART:20231105T070000
END:STANDARD
BEGIN:DAYLIGHT
TZOFFSETFROM:-0600
TZOFFSETTO:-0500
TZNAME:CDT
DTSTART:20240310T080000
END:DAYLIGHT
BEGIN:STANDARD
TZOFFSETFROM:-0500
TZOFFSETTO:-0600
TZNAME:CST
DTSTART:20241103T070000
END:STANDARD
BEGIN:DAYLIGHT
TZOFFSETFROM:-0600
TZOFFSETTO:-0500
TZNAME:CDT
DTSTART:20250309T080000
END:DAYLIGHT
BEGIN:STANDARD
TZOFFSETFROM:-0500
TZOFFSETTO:-0600
TZNAME:CST
DTSTART:20251102T070000
END:STANDARD
END:VTIMEZONE
BEGIN:VEVENT
DTSTART;TZID=America/Chicago:20240304T150000
DTEND;TZID=America/Chicago:20240304T160000
DTSTAMP:20260425T091510
CREATED:20240228T225703Z
LAST-MODIFIED:20240228T225703Z
UID:1888-1709564400-1709568000@raycountylibrary.missouri.org
SUMMARY:Ray County Library Board of Trustees Meeting
DESCRIPTION:Monthly meeting of the Ray County Library Board of Trustees
URL:https://raycountylibrary.missouri.org/event/ray-county-library-board-of-trustees-meeting-16/
LOCATION:Library Community Room
CATEGORIES:Adults
END:VEVENT
BEGIN:VEVENT
DTSTART;TZID=America/Chicago:20240305T180000
DTEND;TZID=America/Chicago:20240305T190000
DTSTAMP:20260425T091510
CREATED:20240228T230736Z
LAST-MODIFIED:20240228T230736Z
UID:1890-1709661600-1709665200@raycountylibrary.missouri.org
SUMMARY:Book Club
DESCRIPTION:Book Club Meeting where a selected book will be discussed. This month’s book is “Gone by Morning” by Michele Weinstat Miller. Members can also pick up next month’s book\, “The Perfect Mother” by Aimee Molloy. Contact the library for details regarding joining the book club.
URL:https://raycountylibrary.missouri.org/event/book-club-18/
LOCATION:Library Community Room
CATEGORIES:Adults
ATTACH;FMTTYPE=image/png:https://raycountylibrary.missouri.org/wp-content/uploads/2024/02/March-Book-Club.png
END:VEVENT
BEGIN:VEVENT
DTSTART;TZID=America/Chicago:20240307T170000
DTEND;TZID=America/Chicago:20240307T180000
DTSTAMP:20260425T091510
CREATED:20240301T202358Z
LAST-MODIFIED:20240301T202358Z
UID:1918-1709830800-1709834400@raycountylibrary.missouri.org
SUMMARY:Next Chapter Book Club
DESCRIPTION:Helping people with disabilities enjoy books\, friends\, and their community. This is a book club meeting where a selected book will be read and discussed\, in partnership with Special Needs Services of Ray County. The current book is “Wonder” by R. J. Palacio. Contact the library or Special Needs Services for details regarding joining the book club.
URL:https://raycountylibrary.missouri.org/event/next-chapter-book-club-38/
LOCATION:Library Community Room
CATEGORIES:Adults
ATTACH;FMTTYPE=image/png:https://raycountylibrary.missouri.org/wp-content/uploads/2024/03/Next-Chapter.png
END:VEVENT
BEGIN:VEVENT
DTSTART;TZID=America/Chicago:20240312T180000
DTEND;TZID=America/Chicago:20240312T190000
DTSTAMP:20260425T091510
CREATED:20240301T202925Z
LAST-MODIFIED:20240301T202925Z
UID:1924-1710266400-1710270000@raycountylibrary.missouri.org
SUMMARY:Crafting for Adults: Pressed Flower Bookmarks
DESCRIPTION:This month’s craft will be pressed flower bookmarks! This will be a relaxing evening that offers allows room for creativity in style. All supplies will be provided. Click here to register to attend.
URL:https://raycountylibrary.missouri.org/event/crafting-for-adults-pressed-flower-bookmarks/
LOCATION:Library Community Room
CATEGORIES:Adults
ATTACH;FMTTYPE=image/png:https://raycountylibrary.missouri.org/wp-content/uploads/2024/03/Craft-Night-Flower-Bookmarks.png
END:VEVENT
BEGIN:VEVENT
DTSTART;TZID=America/Chicago:20240321T170000
DTEND;TZID=America/Chicago:20240321T180000
DTSTAMP:20260425T091510
CREATED:20240301T203629Z
LAST-MODIFIED:20240301T203629Z
UID:1941-1711040400-1711044000@raycountylibrary.missouri.org
SUMMARY:Next Chapter Book Club
DESCRIPTION:Helping people with disabilities enjoy books\, friends\, and their community. This is a book club meeting where a selected book will be read and discussed\, in partnership with Special Needs Services of Ray County. The current book is “Wonder” by R. J. Palacio. Contact the library or Special Needs Services for details regarding joining the book club.
URL:https://raycountylibrary.missouri.org/event/next-chapter-book-club-39/
LOCATION:Library Community Room
CATEGORIES:Adults
ATTACH;FMTTYPE=image/png:https://raycountylibrary.missouri.org/wp-content/uploads/2024/03/Next-Chapter.png
END:VEVENT
END:VCALENDAR