BEGIN:VCALENDAR
VERSION:2.0
PRODID:-//Ray County Library - ECPv6.15.20//NONSGML v1.0//EN
CALSCALE:GREGORIAN
METHOD:PUBLISH
X-WR-CALNAME:Ray County Library
X-ORIGINAL-URL:https://raycountylibrary.missouri.org
X-WR-CALDESC:Events for Ray County Library
REFRESH-INTERVAL;VALUE=DURATION:PT1H
X-Robots-Tag:noindex
X-PUBLISHED-TTL:PT1H
BEGIN:VTIMEZONE
TZID:America/Chicago
BEGIN:DAYLIGHT
TZOFFSETFROM:-0600
TZOFFSETTO:-0500
TZNAME:CDT
DTSTART:20230312T080000
END:DAYLIGHT
BEGIN:STANDARD
TZOFFSETFROM:-0500
TZOFFSETTO:-0600
TZNAME:CST
DTSTART:20231105T070000
END:STANDARD
BEGIN:DAYLIGHT
TZOFFSETFROM:-0600
TZOFFSETTO:-0500
TZNAME:CDT
DTSTART:20240310T080000
END:DAYLIGHT
BEGIN:STANDARD
TZOFFSETFROM:-0500
TZOFFSETTO:-0600
TZNAME:CST
DTSTART:20241103T070000
END:STANDARD
BEGIN:DAYLIGHT
TZOFFSETFROM:-0600
TZOFFSETTO:-0500
TZNAME:CDT
DTSTART:20250309T080000
END:DAYLIGHT
BEGIN:STANDARD
TZOFFSETFROM:-0500
TZOFFSETTO:-0600
TZNAME:CST
DTSTART:20251102T070000
END:STANDARD
END:VTIMEZONE
BEGIN:VEVENT
DTSTART;TZID=America/Chicago:20240502T170000
DTEND;TZID=America/Chicago:20240502T180000
DTSTAMP:20260425T054458
CREATED:20240426T170152Z
LAST-MODIFIED:20240426T170152Z
UID:2012-1714669200-1714672800@raycountylibrary.missouri.org
SUMMARY:Next Chapter Book Club
DESCRIPTION:Helping people with disabilities enjoy books\, friends\, and their community. This is a book club meeting where a selected book will be read and discussed\, in partnership with Special Needs Services of Ray County. The current book is “Wonder” by R. J. Palacio. Contact the library or Special Needs Services for details regarding joining the book club.
URL:https://raycountylibrary.missouri.org/event/next-chapter-book-club-42/
LOCATION:Library Community Room
CATEGORIES:Adults
ATTACH;FMTTYPE=image/png:https://raycountylibrary.missouri.org/wp-content/uploads/2024/03/Next-Chapter.png
END:VEVENT
BEGIN:VEVENT
DTSTART;TZID=America/Chicago:20240506T170000
DTEND;TZID=America/Chicago:20240506T180000
DTSTAMP:20260425T054458
CREATED:20240426T170332Z
LAST-MODIFIED:20240426T170332Z
UID:2016-1715014800-1715018400@raycountylibrary.missouri.org
SUMMARY:Ray County Library Board of Trustees Meeting
DESCRIPTION:Monthly Meeting of the Ray County Library Board of Trustees.
URL:https://raycountylibrary.missouri.org/event/ray-county-library-board-of-trustees-meeting-18/
LOCATION:Library Community Room
CATEGORIES:Adults
END:VEVENT
BEGIN:VEVENT
DTSTART;TZID=America/Chicago:20240507T180000
DTEND;TZID=America/Chicago:20240507T190000
DTSTAMP:20260425T054458
CREATED:20240426T170856Z
LAST-MODIFIED:20240501T150557Z
UID:2019-1715104800-1715108400@raycountylibrary.missouri.org
SUMMARY:Book Club
DESCRIPTION:Book Club Meeting where a selected book will be discussed. This month’s book is “The Road” by Cormac McCarthy. This is part two of our special international meeting! Members can pick up next month’s book\, “The Sanatorium” by Sarah Pearse. Contact the library for details regarding joining the book club.
URL:https://raycountylibrary.missouri.org/event/book-club-20/
LOCATION:Library Community Room
CATEGORIES:Adults
ATTACH;FMTTYPE=image/png:https://raycountylibrary.missouri.org/wp-content/uploads/2024/04/May-Book-Club-New.png
END:VEVENT
BEGIN:VEVENT
DTSTART;TZID=America/Chicago:20240514T180000
DTEND;TZID=America/Chicago:20240514T190000
DTSTAMP:20260425T054458
CREATED:20240501T151704Z
LAST-MODIFIED:20240501T151704Z
UID:2038-1715709600-1715713200@raycountylibrary.missouri.org
SUMMARY:Crafting for Adults: Paint by Number
DESCRIPTION:This month’s craft will be a paint-by-number! This will be a relaxing evening that offers allows room for creativity in style. All supplies will be provided. Click here to register to attend.
URL:https://raycountylibrary.missouri.org/event/crafting-for-adults-paint-by-number/
LOCATION:Library Community Room
CATEGORIES:Adults
ATTACH;FMTTYPE=image/png:https://raycountylibrary.missouri.org/wp-content/uploads/2024/05/Craft-Night-Painting-by-Number.png
END:VEVENT
BEGIN:VEVENT
DTSTART;TZID=America/Chicago:20240516T170000
DTEND;TZID=America/Chicago:20240516T180000
DTSTAMP:20260425T054458
CREATED:20240501T152141Z
LAST-MODIFIED:20240501T152141Z
UID:2048-1715878800-1715882400@raycountylibrary.missouri.org
SUMMARY:Next Chapter Book Club
DESCRIPTION:Helping people with disabilities enjoy books\, friends\, and their community. This is a book club meeting where a selected book will be read and discussed\, in partnership with Special Needs Services of Ray County. Contact the library or Special Needs Services for details regarding joining the book club.
URL:https://raycountylibrary.missouri.org/event/next-chapter-book-club-43/
LOCATION:Library Community Room
CATEGORIES:Adults
ATTACH;FMTTYPE=image/png:https://raycountylibrary.missouri.org/wp-content/uploads/2024/03/Next-Chapter.png
END:VEVENT
BEGIN:VEVENT
DTSTART;TZID=America/Chicago:20240521T100000
DTEND;TZID=America/Chicago:20240521T110000
DTSTAMP:20260425T054458
CREATED:20240501T152503Z
LAST-MODIFIED:20240521T145738Z
UID:2052-1716285600-1716289200@raycountylibrary.missouri.org
SUMMARY:Senior Life Solutions Presents: How Mental and Physical Health Go Hand in Hand
DESCRIPTION:Learn solutions for Seniors to improve Mental and Physical wellbeing! \nPresenter: Lacey Sullenger with Ray County Hospital & Healthcare
URL:https://raycountylibrary.missouri.org/event/senior-life-solutions-presents-how-mental-and-physical-health-go-hand-in-hand/
LOCATION:Library Community Room
CATEGORIES:Adults
ATTACH;FMTTYPE=image/png:https://raycountylibrary.missouri.org/wp-content/uploads/2024/05/Senior-Life-Solutions-1.png
END:VEVENT
BEGIN:VEVENT
DTSTART;TZID=America/Chicago:20240530T170000
DTEND;TZID=America/Chicago:20240530T180000
DTSTAMP:20260425T054458
CREATED:20240501T154005Z
LAST-MODIFIED:20240501T154005Z
UID:2075-1717088400-1717092000@raycountylibrary.missouri.org
SUMMARY:Next Chapter Book Club
DESCRIPTION:Helping people with disabilities enjoy books\, friends\, and their community. This is a book club meeting where a selected book will be read and discussed\, in partnership with Special Needs Services of Ray County. Contact the library or Special Needs Services for details regarding joining the book club.
URL:https://raycountylibrary.missouri.org/event/next-chapter-book-club-44/
LOCATION:Library Community Room
CATEGORIES:Adults
ATTACH;FMTTYPE=image/png:https://raycountylibrary.missouri.org/wp-content/uploads/2024/03/Next-Chapter.png
END:VEVENT
END:VCALENDAR