BEGIN:VCALENDAR
VERSION:2.0
PRODID:-//Ray County Library - ECPv6.15.20//NONSGML v1.0//EN
CALSCALE:GREGORIAN
METHOD:PUBLISH
X-ORIGINAL-URL:https://raycountylibrary.missouri.org
X-WR-CALDESC:Events for Ray County Library
REFRESH-INTERVAL;VALUE=DURATION:PT1H
X-Robots-Tag:noindex
X-PUBLISHED-TTL:PT1H
BEGIN:VTIMEZONE
TZID:America/Chicago
BEGIN:DAYLIGHT
TZOFFSETFROM:-0600
TZOFFSETTO:-0500
TZNAME:CDT
DTSTART:20230312T080000
END:DAYLIGHT
BEGIN:STANDARD
TZOFFSETFROM:-0500
TZOFFSETTO:-0600
TZNAME:CST
DTSTART:20231105T070000
END:STANDARD
BEGIN:DAYLIGHT
TZOFFSETFROM:-0600
TZOFFSETTO:-0500
TZNAME:CDT
DTSTART:20240310T080000
END:DAYLIGHT
BEGIN:STANDARD
TZOFFSETFROM:-0500
TZOFFSETTO:-0600
TZNAME:CST
DTSTART:20241103T070000
END:STANDARD
BEGIN:DAYLIGHT
TZOFFSETFROM:-0600
TZOFFSETTO:-0500
TZNAME:CDT
DTSTART:20250309T080000
END:DAYLIGHT
BEGIN:STANDARD
TZOFFSETFROM:-0500
TZOFFSETTO:-0600
TZNAME:CST
DTSTART:20251102T070000
END:STANDARD
END:VTIMEZONE
BEGIN:VEVENT
DTSTART;VALUE=DATE:20240603
DTEND;VALUE=DATE:20240811
DTSTAMP:20260424T075640
CREATED:20240531T212806Z
LAST-MODIFIED:20240531T212806Z
UID:2146-1717372800-1723334399@raycountylibrary.missouri.org
SUMMARY:2024 Adults' Summer Reading Program
DESCRIPTION:This year’s summer reading theme is about finding adventure at the library. To participate read and log any 5 books before the end of the program on August 10th. If you need reading suggestions\, then check out this list of books. Participants who read all 5 books will get a free book and mug!\n\nTo log your books online:\nGo to raycountylibrary.beanstack.org\nScroll down to log in or create an account\nYour username is your full library card number (929XXXXXXX)\nYour default password is: beanstack
URL:https://raycountylibrary.missouri.org/event/2024-adults-summer-reading-program/
CATEGORIES:Adults
ATTACH;FMTTYPE=image/webp:https://raycountylibrary.missouri.org/wp-content/uploads/2024/05/SRP-Banner.webp
END:VEVENT
BEGIN:VEVENT
DTSTART;TZID=America/Chicago:20240604T180000
DTEND;TZID=America/Chicago:20240604T190000
DTSTAMP:20260424T075640
CREATED:20240531T204107Z
LAST-MODIFIED:20240531T204107Z
UID:2099-1717524000-1717527600@raycountylibrary.missouri.org
SUMMARY:Book Club
DESCRIPTION:Book Club Meeting where a selected book will be discussed. This month’s book is “The Sanatorium” by Sarah Pearse. Members can also pick up next month’s book\, “The Sun Down Motel” by Simone St. James. Contact the library for details regarding joining the book club.
URL:https://raycountylibrary.missouri.org/event/book-club-21/
LOCATION:Library Community Room
CATEGORIES:Adults
ATTACH;FMTTYPE=image/png:https://raycountylibrary.missouri.org/wp-content/uploads/2024/05/June-Book-Club.png
END:VEVENT
BEGIN:VEVENT
DTSTART;TZID=America/Chicago:20240610T170000
DTEND;TZID=America/Chicago:20240610T180000
DTSTAMP:20260424T075640
CREATED:20240531T205400Z
LAST-MODIFIED:20240531T205400Z
UID:2118-1718038800-1718042400@raycountylibrary.missouri.org
SUMMARY:Ray County Library Board of Trustees Meeting
DESCRIPTION:Monthly Meeting of the Ray County Library Board of Trustees.
URL:https://raycountylibrary.missouri.org/event/ray-county-library-board-of-trustees-meeting-19/
LOCATION:Library Community Room
CATEGORIES:Adults
END:VEVENT
BEGIN:VEVENT
DTSTART;TZID=America/Chicago:20240611T180000
DTEND;TZID=America/Chicago:20240611T190000
DTSTAMP:20260424T075640
CREATED:20240531T205656Z
LAST-MODIFIED:20240531T205656Z
UID:2120-1718128800-1718132400@raycountylibrary.missouri.org
SUMMARY:Crafting for Adults: Yarn Paintings
DESCRIPTION:This month’s craft will be a yarn painting! This will be a relaxing evening that offers allows room for creativity in style. All supplies will be provided. Click here to register to attend.
URL:https://raycountylibrary.missouri.org/event/crafting-for-adults-yarn-paintings/
LOCATION:Library Community Room
CATEGORIES:Adults
ATTACH;FMTTYPE=image/png:https://raycountylibrary.missouri.org/wp-content/uploads/2024/05/June-Craft-Night.png
END:VEVENT
BEGIN:VEVENT
DTSTART;TZID=America/Chicago:20240613T160000
DTEND;TZID=America/Chicago:20240613T170000
DTSTAMP:20260424T075640
CREATED:20240531T210343Z
LAST-MODIFIED:20240531T210343Z
UID:2133-1718294400-1718298000@raycountylibrary.missouri.org
SUMMARY:Next Chapter Book Club
DESCRIPTION:Helping people with disabilities enjoy books\, friends\, and their community. This is a book club meeting where a selected book will be read and discussed\, in partnership with Special Needs Services of Ray County. Contact the library or Special Needs Services for details regarding joining the book club.
URL:https://raycountylibrary.missouri.org/event/next-chapter-book-club-45/
LOCATION:Library Community Room
CATEGORIES:Adults
ATTACH;FMTTYPE=image/png:https://raycountylibrary.missouri.org/wp-content/uploads/2024/05/Next-Chapter.png
END:VEVENT
BEGIN:VEVENT
DTSTART;TZID=America/Chicago:20240618T100000
DTEND;TZID=America/Chicago:20240618T110000
DTSTAMP:20260424T075640
CREATED:20240531T210759Z
LAST-MODIFIED:20240531T210759Z
UID:2135-1718704800-1718708400@raycountylibrary.missouri.org
SUMMARY:Senior Life Solutions Presents: Health Topics
DESCRIPTION:
URL:https://raycountylibrary.missouri.org/event/senior-life-solutions-presents-health-topics/
LOCATION:Library Community Room
CATEGORIES:Adults
ATTACH;FMTTYPE=image/png:https://raycountylibrary.missouri.org/wp-content/uploads/2024/05/Senior-Life-Solutions-Presents-Health-Topics.png
END:VEVENT
BEGIN:VEVENT
DTSTART;TZID=America/Chicago:20240627T170000
DTEND;TZID=America/Chicago:20240627T180000
DTSTAMP:20260424T075640
CREATED:20240531T213827Z
LAST-MODIFIED:20240531T213827Z
UID:2161-1719507600-1719511200@raycountylibrary.missouri.org
SUMMARY:Next Chapter Book Club
DESCRIPTION:Helping people with disabilities enjoy books\, friends\, and their community. This is a book club meeting where a selected book will be read and discussed\, in partnership with Special Needs Services of Ray County. Contact the library or Special Needs Services for details regarding joining the book club.
URL:https://raycountylibrary.missouri.org/event/next-chapter-book-club-46/
LOCATION:Library Community Room
CATEGORIES:Adults
ATTACH;FMTTYPE=image/png:https://raycountylibrary.missouri.org/wp-content/uploads/2024/05/Next-Chapter.png
END:VEVENT
END:VCALENDAR