BEGIN:VCALENDAR
VERSION:2.0
PRODID:-//Ray County Library - ECPv6.15.20//NONSGML v1.0//EN
CALSCALE:GREGORIAN
METHOD:PUBLISH
X-ORIGINAL-URL:https://raycountylibrary.missouri.org
X-WR-CALDESC:Events for Ray County Library
REFRESH-INTERVAL;VALUE=DURATION:PT1H
X-Robots-Tag:noindex
X-PUBLISHED-TTL:PT1H
BEGIN:VTIMEZONE
TZID:America/Chicago
BEGIN:DAYLIGHT
TZOFFSETFROM:-0600
TZOFFSETTO:-0500
TZNAME:CDT
DTSTART:20230312T080000
END:DAYLIGHT
BEGIN:STANDARD
TZOFFSETFROM:-0500
TZOFFSETTO:-0600
TZNAME:CST
DTSTART:20231105T070000
END:STANDARD
BEGIN:DAYLIGHT
TZOFFSETFROM:-0600
TZOFFSETTO:-0500
TZNAME:CDT
DTSTART:20240310T080000
END:DAYLIGHT
BEGIN:STANDARD
TZOFFSETFROM:-0500
TZOFFSETTO:-0600
TZNAME:CST
DTSTART:20241103T070000
END:STANDARD
BEGIN:DAYLIGHT
TZOFFSETFROM:-0600
TZOFFSETTO:-0500
TZNAME:CDT
DTSTART:20250309T080000
END:DAYLIGHT
BEGIN:STANDARD
TZOFFSETFROM:-0500
TZOFFSETTO:-0600
TZNAME:CST
DTSTART:20251102T070000
END:STANDARD
END:VTIMEZONE
BEGIN:VEVENT
DTSTART;TZID=America/Chicago:20240903T180000
DTEND;TZID=America/Chicago:20240903T190000
DTSTAMP:20260422T214210
CREATED:20240830T190023Z
LAST-MODIFIED:20240830T190023Z
UID:2432-1725386400-1725390000@raycountylibrary.missouri.org
SUMMARY:Book Club
DESCRIPTION:Book Club Meeting where a selected book will be discussed. This month’s book is “a Man called Ove” by Fredrik Backman. Members can also pick up next month’s book\, “Color Me Murder” by Krista Davis. Contact the library for details regarding joining the book club.
URL:https://raycountylibrary.missouri.org/event/book-club-24/
LOCATION:Library Community Room
CATEGORIES:Adults
ATTACH;FMTTYPE=image/png:https://raycountylibrary.missouri.org/wp-content/uploads/2024/08/September-Book-Club-1.png
END:VEVENT
BEGIN:VEVENT
DTSTART;TZID=America/Chicago:20240905T170000
DTEND;TZID=America/Chicago:20240905T180000
DTSTAMP:20260422T214210
CREATED:20240830T193312Z
LAST-MODIFIED:20240830T193312Z
UID:2480-1725555600-1725559200@raycountylibrary.missouri.org
SUMMARY:Next Chapter Book Club
DESCRIPTION:Helping people with disabilities enjoy books\, friends\, and their community. This is a book club meeting where a selected book will be read and discussed\, in partnership with Special Needs Services of Ray County. Contact the library or Special Needs Services for details regarding joining the book club.
URL:https://raycountylibrary.missouri.org/event/next-chapter-book-club-48/
LOCATION:Library Community Room
CATEGORIES:Adults
ATTACH;FMTTYPE=image/png:https://raycountylibrary.missouri.org/wp-content/uploads/2024/08/Next-Chapter-Book-Club.png
END:VEVENT
BEGIN:VEVENT
DTSTART;TZID=America/Chicago:20240910T180000
DTEND;TZID=America/Chicago:20240910T190000
DTSTAMP:20260422T214210
CREATED:20240830T191148Z
LAST-MODIFIED:20240830T191148Z
UID:2449-1725991200-1725994800@raycountylibrary.missouri.org
SUMMARY:Crafting for Adults: Fall Candle Holders
DESCRIPTION:This month’s craft will be fall candle holders! This will be a relaxing evening that offers allows room for creativity in style. All supplies will be provided. Click here to register to attend.
URL:https://raycountylibrary.missouri.org/event/crafting-for-adults-fall-candle-holders/
LOCATION:Library Community Room
CATEGORIES:Adults
ATTACH;FMTTYPE=image/png:https://raycountylibrary.missouri.org/wp-content/uploads/2024/08/September-Craft-Night.png
END:VEVENT
BEGIN:VEVENT
DTSTART;TZID=America/Chicago:20240917T100000
DTEND;TZID=America/Chicago:20240917T110000
DTSTAMP:20260422T214210
CREATED:20240830T191627Z
LAST-MODIFIED:20240830T191627Z
UID:2459-1726567200-1726570800@raycountylibrary.missouri.org
SUMMARY:Senior Life Solutions
DESCRIPTION:To strengthen the health literacy of our patrons\, Senior Life Solutions will present a monthly health information program on the 3rd Tuesday of each month at 10 am in the Library’s Community Room.
URL:https://raycountylibrary.missouri.org/event/senior-life-solutions-2/
LOCATION:Library Community Room
CATEGORIES:Adults
ATTACH;FMTTYPE=image/jpeg:https://raycountylibrary.missouri.org/wp-content/uploads/2024/08/Sls.jpg
END:VEVENT
BEGIN:VEVENT
DTSTART;TZID=America/Chicago:20240919T170000
DTEND;TZID=America/Chicago:20240919T180000
DTSTAMP:20260422T214210
CREATED:20240830T193445Z
LAST-MODIFIED:20240830T193445Z
UID:2485-1726765200-1726768800@raycountylibrary.missouri.org
SUMMARY:Next Chapter Book Club
DESCRIPTION:Helping people with disabilities enjoy books\, friends\, and their community. This is a book club meeting where a selected book will be read and discussed\, in partnership with Special Needs Services of Ray County. Contact the library or Special Needs Services for details regarding joining the book club.
URL:https://raycountylibrary.missouri.org/event/next-chapter-book-club-49/
LOCATION:Library Community Room
CATEGORIES:Adults
ATTACH;FMTTYPE=image/png:https://raycountylibrary.missouri.org/wp-content/uploads/2024/08/Next-Chapter-Book-Club.png
END:VEVENT
END:VCALENDAR