BEGIN:VCALENDAR
VERSION:2.0
PRODID:-//Ray County Library - ECPv6.15.20//NONSGML v1.0//EN
CALSCALE:GREGORIAN
METHOD:PUBLISH
X-WR-CALNAME:Ray County Library
X-ORIGINAL-URL:https://raycountylibrary.missouri.org
X-WR-CALDESC:Events for Ray County Library
REFRESH-INTERVAL;VALUE=DURATION:PT1H
X-Robots-Tag:noindex
X-PUBLISHED-TTL:PT1H
BEGIN:VTIMEZONE
TZID:America/Chicago
BEGIN:DAYLIGHT
TZOFFSETFROM:-0600
TZOFFSETTO:-0500
TZNAME:CDT
DTSTART:20230312T080000
END:DAYLIGHT
BEGIN:STANDARD
TZOFFSETFROM:-0500
TZOFFSETTO:-0600
TZNAME:CST
DTSTART:20231105T070000
END:STANDARD
BEGIN:DAYLIGHT
TZOFFSETFROM:-0600
TZOFFSETTO:-0500
TZNAME:CDT
DTSTART:20240310T080000
END:DAYLIGHT
BEGIN:STANDARD
TZOFFSETFROM:-0500
TZOFFSETTO:-0600
TZNAME:CST
DTSTART:20241103T070000
END:STANDARD
BEGIN:DAYLIGHT
TZOFFSETFROM:-0600
TZOFFSETTO:-0500
TZNAME:CDT
DTSTART:20250309T080000
END:DAYLIGHT
BEGIN:STANDARD
TZOFFSETFROM:-0500
TZOFFSETTO:-0600
TZNAME:CST
DTSTART:20251102T070000
END:STANDARD
END:VTIMEZONE
BEGIN:VEVENT
DTSTART;TZID=America/Chicago:20241104T170000
DTEND;TZID=America/Chicago:20241104T180000
DTSTAMP:20260421T215835
CREATED:20241028T193920Z
LAST-MODIFIED:20241028T193920Z
UID:2602-1730739600-1730743200@raycountylibrary.missouri.org
SUMMARY:Ray County Library Board of Trustees Meeting
DESCRIPTION:Monthly Meeting of the Ray County Library Board of Trustees.
URL:https://raycountylibrary.missouri.org/event/ray-county-library-board-of-trustees-meeting-24/
LOCATION:Library Community Room
CATEGORIES:Adults
END:VEVENT
BEGIN:VEVENT
DTSTART;TZID=America/Chicago:20241105T180000
DTEND;TZID=America/Chicago:20241105T190000
DTSTAMP:20260421T215835
CREATED:20241028T194242Z
LAST-MODIFIED:20241028T194242Z
UID:2604-1730829600-1730833200@raycountylibrary.missouri.org
SUMMARY:Book Club
DESCRIPTION:Book Club Meeting where a selected book will be discussed. This month’s book is “The Darkness” by Ragnar Jonasson. Members can also pick up next month’s book\, “Akin” by Emma Donoghue. Contact the library for details regarding joining the book club.
URL:https://raycountylibrary.missouri.org/event/book-club-26/
LOCATION:Library Community Room
CATEGORIES:Adults
ATTACH;FMTTYPE=image/png:https://raycountylibrary.missouri.org/wp-content/uploads/2024/10/November-Book-Club.png
END:VEVENT
BEGIN:VEVENT
DTSTART;TZID=America/Chicago:20241112T180000
DTEND;TZID=America/Chicago:20241112T190000
DTSTAMP:20260421T215835
CREATED:20241106T203125Z
LAST-MODIFIED:20241106T203125Z
UID:2628-1731434400-1731438000@raycountylibrary.missouri.org
SUMMARY:Crafting for Adults: Wool Felted Cats
DESCRIPTION:This month’s craft will be wool felted cats! This will be a relaxing evening that offers allows room for creativity in style. All supplies will be provided. Click here to register to attend.
URL:https://raycountylibrary.missouri.org/event/crafting-for-adults-wool-felted-cats/
LOCATION:Library Community Room
CATEGORIES:Adults
ATTACH;FMTTYPE=image/png:https://raycountylibrary.missouri.org/wp-content/uploads/2024/11/November-Craft-Night.png
END:VEVENT
BEGIN:VEVENT
DTSTART;TZID=America/Chicago:20241119T100000
DTEND;TZID=America/Chicago:20241119T110000
DTSTAMP:20260421T215835
CREATED:20241106T203359Z
LAST-MODIFIED:20241106T203359Z
UID:2634-1732010400-1732014000@raycountylibrary.missouri.org
SUMMARY:Senior Life Solutions
DESCRIPTION:To strengthen the health literacy of our patrons\, Senior Life Solutions will present a monthly health information program on the 3rd Tuesday of each month at 10 am in the Library’s Community Room. 
URL:https://raycountylibrary.missouri.org/event/senior-life-solutions-4/
LOCATION:Library Community Room
CATEGORIES:Adults
ATTACH;FMTTYPE=image/png:https://raycountylibrary.missouri.org/wp-content/uploads/2024/11/SLS-November.png
END:VEVENT
END:VCALENDAR