BEGIN:VCALENDAR
VERSION:2.0
PRODID:-//Ray County Library - ECPv6.15.20//NONSGML v1.0//EN
CALSCALE:GREGORIAN
METHOD:PUBLISH
X-WR-CALNAME:Ray County Library
X-ORIGINAL-URL:https://raycountylibrary.missouri.org
X-WR-CALDESC:Events for Ray County Library
REFRESH-INTERVAL;VALUE=DURATION:PT1H
X-Robots-Tag:noindex
X-PUBLISHED-TTL:PT1H
BEGIN:VTIMEZONE
TZID:America/Chicago
BEGIN:DAYLIGHT
TZOFFSETFROM:-0600
TZOFFSETTO:-0500
TZNAME:CDT
DTSTART:20240310T080000
END:DAYLIGHT
BEGIN:STANDARD
TZOFFSETFROM:-0500
TZOFFSETTO:-0600
TZNAME:CST
DTSTART:20241103T070000
END:STANDARD
BEGIN:DAYLIGHT
TZOFFSETFROM:-0600
TZOFFSETTO:-0500
TZNAME:CDT
DTSTART:20250309T080000
END:DAYLIGHT
BEGIN:STANDARD
TZOFFSETFROM:-0500
TZOFFSETTO:-0600
TZNAME:CST
DTSTART:20251102T070000
END:STANDARD
BEGIN:DAYLIGHT
TZOFFSETFROM:-0600
TZOFFSETTO:-0500
TZNAME:CDT
DTSTART:20260308T080000
END:DAYLIGHT
BEGIN:STANDARD
TZOFFSETFROM:-0500
TZOFFSETTO:-0600
TZNAME:CST
DTSTART:20261101T070000
END:STANDARD
END:VTIMEZONE
BEGIN:VEVENT
DTSTART;TZID=America/Chicago:20250203T170000
DTEND;TZID=America/Chicago:20250203T180000
DTSTAMP:20260421T122531
CREATED:20250131T230839Z
LAST-MODIFIED:20250131T230839Z
UID:2864-1738602000-1738605600@raycountylibrary.missouri.org
SUMMARY:Ray County Library Board of Trustees Meeting
DESCRIPTION:Monthly Meeting of the Ray County Library Board of Trustees.
URL:https://raycountylibrary.missouri.org/event/ray-county-library-board-of-trustees-meeting-28/
LOCATION:Library Community Room
CATEGORIES:Adults
END:VEVENT
BEGIN:VEVENT
DTSTART;TZID=America/Chicago:20250204T180000
DTEND;TZID=America/Chicago:20250204T190000
DTSTAMP:20260421T122531
CREATED:20250131T230913Z
LAST-MODIFIED:20250131T230913Z
UID:2866-1738692000-1738695600@raycountylibrary.missouri.org
SUMMARY:Book Club
DESCRIPTION:Book Club Meeting where a selected book will be discussed. This month’s book is “The Little Old Lady Who Broke All the Rules” by Catharina Ingelman-Sundberg. Members can also pick up next month’s book\, “The Stars Are Fire” by Anita Shreve. Contact the library for details regarding joining the book club.
URL:https://raycountylibrary.missouri.org/event/book-club-28/
LOCATION:Library Community Room
CATEGORIES:Adults
ATTACH;FMTTYPE=image/png:https://raycountylibrary.missouri.org/wp-content/uploads/2025/01/February-Book-Club.png
END:VEVENT
BEGIN:VEVENT
DTSTART;TZID=America/Chicago:20250206T160000
DTEND;TZID=America/Chicago:20250206T170000
DTSTAMP:20260421T122531
CREATED:20250131T231027Z
LAST-MODIFIED:20250131T231027Z
UID:2870-1738857600-1738861200@raycountylibrary.missouri.org
SUMMARY:Next Chapter Book Club
DESCRIPTION:Helping people with disabilities enjoy books\, friends\, and their community. This is a book club meeting where a selected book will be read and discussed\, in partnership with Special Needs Services of Ray County. Contact the library or Special Needs Services for details regarding joining the book club.
URL:https://raycountylibrary.missouri.org/event/next-chapter-book-club-50/
LOCATION:Library Community Room
CATEGORIES:Adults
ATTACH;FMTTYPE=image/png:https://raycountylibrary.missouri.org/wp-content/uploads/2025/01/Next-Chapter-flyer-2025.png
END:VEVENT
BEGIN:VEVENT
DTSTART;TZID=America/Chicago:20250211T180000
DTEND;TZID=America/Chicago:20250211T190000
DTSTAMP:20260421T122531
CREATED:20250131T232315Z
LAST-MODIFIED:20250131T232315Z
UID:2872-1739296800-1739300400@raycountylibrary.missouri.org
SUMMARY:Crafting for Adults: Herbal Heating Pads
DESCRIPTION:This month’s craft will be making herbal heating pads! It will be a relaxing evening that offers allows room for creativity in style. All supplies will be provided. Click here to register to attend.
URL:https://raycountylibrary.missouri.org/event/crafting-for-adults-herbal-heating-pads/
LOCATION:Library Community Room
CATEGORIES:Adults
ATTACH;FMTTYPE=image/png:https://raycountylibrary.missouri.org/wp-content/uploads/2025/01/2.11-craft-night.png
END:VEVENT
BEGIN:VEVENT
DTSTART;TZID=America/Chicago:20250218T100000
DTEND;TZID=America/Chicago:20250218T110000
DTSTAMP:20260421T122531
CREATED:20250201T182524Z
LAST-MODIFIED:20250218T134544Z
UID:2885-1739872800-1739876400@raycountylibrary.missouri.org
SUMMARY:Canceled due to weather-Senior Life Solutions
DESCRIPTION:To strengthen the health literacy of our patrons\, Senior Life Solutions will present a monthly health information program on the 3rd Tuesday of each month at 10 am in the Library’s Community Room.
URL:https://raycountylibrary.missouri.org/event/senior-life-solutions-6/
LOCATION:Library Community Room
CATEGORIES:Adults
ATTACH;FMTTYPE=image/png:https://raycountylibrary.missouri.org/wp-content/uploads/2025/02/2.18-Senior-Life.png
END:VEVENT
BEGIN:VEVENT
DTSTART;TZID=America/Chicago:20250220T160000
DTEND;TZID=America/Chicago:20250220T170000
DTSTAMP:20260421T122531
CREATED:20250201T182854Z
LAST-MODIFIED:20250201T182854Z
UID:2891-1740067200-1740070800@raycountylibrary.missouri.org
SUMMARY:Next Chapter Book Club
DESCRIPTION:Helping people with disabilities enjoy books\, friends\, and their community. This is a book club meeting where a selected book will be read and discussed\, in partnership with Special Needs Services of Ray County. Contact the library or Special Needs Services for details regarding joining the book club.
URL:https://raycountylibrary.missouri.org/event/next-chapter-book-club-51/
LOCATION:Library Community Room
CATEGORIES:Adults
ATTACH;FMTTYPE=image/png:https://raycountylibrary.missouri.org/wp-content/uploads/2025/01/Next-Chapter-flyer-2025.png
END:VEVENT
END:VCALENDAR