BEGIN:VCALENDAR
VERSION:2.0
PRODID:-//Ray County Library - ECPv6.15.20//NONSGML v1.0//EN
CALSCALE:GREGORIAN
METHOD:PUBLISH
X-WR-CALNAME:Ray County Library
X-ORIGINAL-URL:https://raycountylibrary.missouri.org
X-WR-CALDESC:Events for Ray County Library
REFRESH-INTERVAL;VALUE=DURATION:PT1H
X-Robots-Tag:noindex
X-PUBLISHED-TTL:PT1H
BEGIN:VTIMEZONE
TZID:America/Chicago
BEGIN:DAYLIGHT
TZOFFSETFROM:-0600
TZOFFSETTO:-0500
TZNAME:CDT
DTSTART:20210314T080000
END:DAYLIGHT
BEGIN:STANDARD
TZOFFSETFROM:-0500
TZOFFSETTO:-0600
TZNAME:CST
DTSTART:20211107T070000
END:STANDARD
BEGIN:DAYLIGHT
TZOFFSETFROM:-0600
TZOFFSETTO:-0500
TZNAME:CDT
DTSTART:20220313T080000
END:DAYLIGHT
BEGIN:STANDARD
TZOFFSETFROM:-0500
TZOFFSETTO:-0600
TZNAME:CST
DTSTART:20221106T070000
END:STANDARD
BEGIN:DAYLIGHT
TZOFFSETFROM:-0600
TZOFFSETTO:-0500
TZNAME:CDT
DTSTART:20230312T080000
END:DAYLIGHT
BEGIN:STANDARD
TZOFFSETFROM:-0500
TZOFFSETTO:-0600
TZNAME:CST
DTSTART:20231105T070000
END:STANDARD
BEGIN:DAYLIGHT
TZOFFSETFROM:-0600
TZOFFSETTO:-0500
TZNAME:CDT
DTSTART:20240310T080000
END:DAYLIGHT
BEGIN:STANDARD
TZOFFSETFROM:-0500
TZOFFSETTO:-0600
TZNAME:CST
DTSTART:20241103T070000
END:STANDARD
BEGIN:DAYLIGHT
TZOFFSETFROM:-0600
TZOFFSETTO:-0500
TZNAME:CDT
DTSTART:20250309T080000
END:DAYLIGHT
BEGIN:STANDARD
TZOFFSETFROM:-0500
TZOFFSETTO:-0600
TZNAME:CST
DTSTART:20251102T070000
END:STANDARD
BEGIN:DAYLIGHT
TZOFFSETFROM:-0600
TZOFFSETTO:-0500
TZNAME:CDT
DTSTART:20260308T080000
END:DAYLIGHT
BEGIN:STANDARD
TZOFFSETFROM:-0500
TZOFFSETTO:-0600
TZNAME:CST
DTSTART:20261101T070000
END:STANDARD
END:VTIMEZONE
BEGIN:VEVENT
DTSTART;TZID=America/Chicago:20241212T163000
DTEND;TZID=America/Chicago:20241212T180000
DTSTAMP:20260419T190409
CREATED:20241206T223315Z
LAST-MODIFIED:20241206T223315Z
UID:2712-1734021000-1734026400@raycountylibrary.missouri.org
SUMMARY:Community Connections Wrapping Day
DESCRIPTION:Join us on Thursday\, December 12 @4:30 to wrap presents with your community!
URL:https://raycountylibrary.missouri.org/event/community-connections-wrapping-day/
LOCATION:Library Community Room
CATEGORIES:All Ages
ATTACH;FMTTYPE=image/png:https://raycountylibrary.missouri.org/wp-content/uploads/2024/12/Community-Connections-Wrapping-Day.png
END:VEVENT
BEGIN:VEVENT
DTSTART;VALUE=DATE:20241209
DTEND;VALUE=DATE:20250216
DTSTAMP:20260419T190409
CREATED:20241206T205025Z
LAST-MODIFIED:20241206T205025Z
UID:2697-1733702400-1739663999@raycountylibrary.missouri.org
SUMMARY:Food for Fines
DESCRIPTION:Food for Fines is back! We’re collecting canned goods and other nonperishables for the Salvation Army from December 9\, 2024 through February 15\, 2025. 1 food item = $1 in forgiven fines.
URL:https://raycountylibrary.missouri.org/event/food-for-fines-3/
CATEGORIES:All Ages
ATTACH;FMTTYPE=image/png:https://raycountylibrary.missouri.org/wp-content/uploads/2024/12/new-Food4Fines-Small.png
END:VEVENT
BEGIN:VEVENT
DTSTART;VALUE=DATE:20241128
DTEND;VALUE=DATE:20241202
DTSTAMP:20260419T190409
CREATED:20241106T204003Z
LAST-MODIFIED:20241120T205246Z
UID:2646-1732752000-1733097599@raycountylibrary.missouri.org
SUMMARY:Closed for Thanksgiving
DESCRIPTION:The Ray County Library will be closed from Thursday\, November 28 to Saturday\, November 30 for Thanksgiving.
URL:https://raycountylibrary.missouri.org/event/closed-for-thanksgiving-2/
CATEGORIES:All Ages
ATTACH;FMTTYPE=image/png:https://raycountylibrary.missouri.org/wp-content/uploads/2024/11/Closed-1128-1130.png
END:VEVENT
BEGIN:VEVENT
DTSTART;VALUE=DATE:20241111
DTEND;VALUE=DATE:20241112
DTSTAMP:20260419T190409
CREATED:20241101T214242Z
LAST-MODIFIED:20241106T201414Z
UID:2619-1731283200-1731369599@raycountylibrary.missouri.org
SUMMARY:Closed for Veteran's Day
DESCRIPTION:The Ray County Library will be closed on Monday\, November 11 in observance of Veteran’s Day.
URL:https://raycountylibrary.missouri.org/event/closed-for-veterans-day-2/
CATEGORIES:All Ages
ATTACH;FMTTYPE=image/png:https://raycountylibrary.missouri.org/wp-content/uploads/2024/11/Closed-Veterans-Day.png
END:VEVENT
BEGIN:VEVENT
DTSTART;VALUE=DATE:20241107
DTEND;VALUE=DATE:20241122
DTSTAMP:20260419T190409
CREATED:20241030T191501Z
LAST-MODIFIED:20241101T215053Z
UID:2595-1730937600-1732233599@raycountylibrary.missouri.org
SUMMARY:Big Library Read!
DESCRIPTION:Get ready to embark on an enchanting journey through Washington Park\, Chicago with Montgomery “Monty” Carver in Montgomery and the Case of the Golden Key\, by debut author Tracy Occomy Crowder. Ray County Library patrons can experience this nostalgic adventure with Big Library Read\, the world’s largest digital book club. From November 7-21\, Tracy Occomy Crowder’s Montgomery and the Case of the Golden Key is available for free as an ebook and audiobook on the Libby app through the Ray County Library. Library card holders can join thousands of others around the globe in reading the digital book without waitlists or holds and access lesson plans and discussion guides from TeachingBooks.net for facilitating age-appropriate conversations about story writing\, cultural representation\, and historical fiction. A fabulous family read\, Montgomery and the Case of the Golden Key promises to captivate readers of all ages with its delightful story of discovery\, resilience\, and the power of community.\n\n \n\nTo celebrate this thrilling tale\, we’re inviting kids ages 12 and under to create their own artwork inspired by the book. Patrons can share their creations (with parent permission or from a parent’s account) on social media using the hashtag #BigLibraryRead on social media from November 7-21 to enter for a chance to win the Adventurer’s Prize Pack!\n\n \n\n 	A signed copy of Montgomery and the Case of the Golden Key\n \n 	A cool LCD display kids metal detector for real-life treasure hunting!\n \n 	A leather-bound journal with a vintage key enclosure for all their notes and discoveries\n \n 	An Instant Print camera to capture every adventure\n \n 	A pair of Belkian Soundform Headphones for diving into audiobooks\n \n 	See official rules for details.\n\n \n\nLIVE READING – November 21 from 5-7 PM CDT\n\n \n\nIn addition to free lesson plans and discussion materials being offered on their website\, Legler Regional Library in Chicago\, Illinois will be hosting a live event on November 21 from 5-7 PM CDT. Tracy Occomy Crowder will be attending from 6-7 PM for a live reading\, audience Q&A\, and story writing activity. Any readers that are interested in attending virtually can register here or via Legler Regional’s website!
URL:https://raycountylibrary.missouri.org/event/big-library-read-2/
CATEGORIES:All Ages
ATTACH;FMTTYPE=image/jpeg:https://raycountylibrary.missouri.org/wp-content/uploads/2024/10/big-library-read.jpg
END:VEVENT
BEGIN:VEVENT
DTSTART;TZID=America/Chicago:20241019T100000
DTEND;TZID=America/Chicago:20241019T110000
DTSTAMP:20260419T190409
CREATED:20241007T191843Z
LAST-MODIFIED:20241007T191843Z
UID:2569-1729332000-1729335600@raycountylibrary.missouri.org
SUMMARY:Crafting at Lawson Fall Festival
DESCRIPTION:Join the Ray County Library for some crafts at the Lawson Fall Festival!
URL:https://raycountylibrary.missouri.org/event/crafting-at-lawson-fall-festival/
LOCATION:Lawson Fall Festival\, Lawson\, Missouri\, United States
CATEGORIES:All Ages
ATTACH;FMTTYPE=image/png:https://raycountylibrary.missouri.org/wp-content/uploads/2024/10/Lawson-fall-Festival.png
END:VEVENT
BEGIN:VEVENT
DTSTART;VALUE=DATE:20241014
DTEND;VALUE=DATE:20241015
DTSTAMP:20260419T190409
CREATED:20241002T214519Z
LAST-MODIFIED:20241002T214519Z
UID:2556-1728864000-1728950399@raycountylibrary.missouri.org
SUMMARY:Library Closed
DESCRIPTION:The Ray County Library will be closed on October 14\, 2024 in observance of Indigenous Peoples’ Day and Columbus Day.
URL:https://raycountylibrary.missouri.org/event/library-closed-4/
CATEGORIES:All Ages
ATTACH;FMTTYPE=image/png:https://raycountylibrary.missouri.org/wp-content/uploads/2024/10/Closed-Columbus-Day.png
END:VEVENT
BEGIN:VEVENT
DTSTART;TZID=America/Chicago:20240909T170000
DTEND;TZID=America/Chicago:20240909T180000
DTSTAMP:20260419T190409
CREATED:20240830T190915Z
LAST-MODIFIED:20240830T190915Z
UID:2447-1725901200-1725904800@raycountylibrary.missouri.org
SUMMARY:Ray County Library Board of Trustees Meeting
DESCRIPTION:Monthly Meeting of the Ray County Library Board of Trustees.
URL:https://raycountylibrary.missouri.org/event/ray-county-library-board-of-trustees-meeting-22/
LOCATION:Library Community Room
CATEGORIES:All Ages
END:VEVENT
BEGIN:VEVENT
DTSTART;TZID=America/Chicago:20240907T120000
DTEND;TZID=America/Chicago:20240907T140000
DTSTAMP:20260419T190409
CREATED:20240830T190731Z
LAST-MODIFIED:20240830T190731Z
UID:2442-1725710400-1725717600@raycountylibrary.missouri.org
SUMMARY:Community Connection Event
DESCRIPTION:Join us on Saturday\, September 7th from 12:00PM-2:00PM\, at the Ray County Library for a fun filled day and learn how to prepare your family for an emergency! Activities will include Petting Zoo\, Storyteller\, Fire Truck demonstration\, food\, door prizes\, an emergency preparedness Go Bag\, and community speakers.
URL:https://raycountylibrary.missouri.org/event/community-connection-event/
LOCATION:West Library Parking Lot
CATEGORIES:All Ages
ATTACH;FMTTYPE=image/png:https://raycountylibrary.missouri.org/wp-content/uploads/2024/08/Community-Connections-Emergency-Preparedness.png
END:VEVENT
BEGIN:VEVENT
DTSTART;VALUE=DATE:20240902
DTEND;VALUE=DATE:20240903
DTSTAMP:20260419T190409
CREATED:20240830T185428Z
LAST-MODIFIED:20241007T192257Z
UID:2429-1725235200-1725321599@raycountylibrary.missouri.org
SUMMARY:Closed for Labor Day
DESCRIPTION:The Ray County Library will be closed on September 2\, 2024 in observance of Labor Day.
URL:https://raycountylibrary.missouri.org/event/closed-for-labor-day-2/
CATEGORIES:All Ages
ATTACH;FMTTYPE=image/png:https://raycountylibrary.missouri.org/wp-content/uploads/2024/08/Closed-Labor-Day.png
END:VEVENT
BEGIN:VEVENT
DTSTART;TZID=America/Chicago:20240829T170000
DTEND;TZID=America/Chicago:20240829T180000
DTSTAMP:20260419T190409
CREATED:20240820T203056Z
LAST-MODIFIED:20240820T203056Z
UID:2425-1724950800-1724954400@raycountylibrary.missouri.org
SUMMARY:Rescheduled Meeting of the Ray County Library Board of Trustees
DESCRIPTION:Monthly Meeting of the Ray County Library Board of Trustees. Rescheduled from August 19th due to lack of a quorum. 
URL:https://raycountylibrary.missouri.org/event/rescheduled-meeting-of-the-ray-county-library-board-of-trustees/
LOCATION:Library Community Room
CATEGORIES:All Ages
END:VEVENT
BEGIN:VEVENT
DTSTART;VALUE=DATE:20240629
DTEND;VALUE=DATE:20240630
DTSTAMP:20260419T190409
CREATED:20240629T165517Z
LAST-MODIFIED:20240629T165517Z
UID:2205-1719619200-1719705599@raycountylibrary.missouri.org
SUMMARY:Closed for Independence Day
DESCRIPTION:The Ray County Library will be closed on July 4\, 2024 in observance of Independence Day.
URL:https://raycountylibrary.missouri.org/event/closed-for-independence-day-2/
CATEGORIES:All Ages
ATTACH;FMTTYPE=image/png:https://raycountylibrary.missouri.org/wp-content/uploads/2024/06/Closed-July-4.png
END:VEVENT
BEGIN:VEVENT
DTSTART;VALUE=DATE:20240619
DTEND;VALUE=DATE:20240620
DTSTAMP:20260419T190409
CREATED:20240531T212959Z
LAST-MODIFIED:20240531T212959Z
UID:2148-1718755200-1718841599@raycountylibrary.missouri.org
SUMMARY:Closed for Juneteenth
DESCRIPTION:The Ray County Library will be closed on June 19\, 2024 in observance of Juneteenth.
URL:https://raycountylibrary.missouri.org/event/closed-for-juneteenth-2/
CATEGORIES:All Ages
ATTACH;FMTTYPE=image/png:https://raycountylibrary.missouri.org/wp-content/uploads/2024/05/Closed-Juneteenth.png
END:VEVENT
BEGIN:VEVENT
DTSTART;VALUE=DATE:20240603
DTEND;VALUE=DATE:20240818
DTSTAMP:20260419T190409
CREATED:20240531T211646Z
LAST-MODIFIED:20240531T211646Z
UID:2140-1717372800-1723939199@raycountylibrary.missouri.org
SUMMARY:Food for Fines
DESCRIPTION:Food for Fines is back! We’re collecting canned goods and other nonperishables for the Salvation Army from June 3\, 2024 through August 17\, 2024. 1 food item = $1 in forgiven fines.
URL:https://raycountylibrary.missouri.org/event/food-for-fines-2/
CATEGORIES:All Ages
ATTACH;FMTTYPE=image/png:https://raycountylibrary.missouri.org/wp-content/uploads/2024/05/Food4Fines-Small.png
END:VEVENT
BEGIN:VEVENT
DTSTART;VALUE=DATE:20240527
DTEND;VALUE=DATE:20240528
DTSTAMP:20260419T190409
CREATED:20240501T153456Z
LAST-MODIFIED:20240501T153456Z
UID:2062-1716768000-1716854399@raycountylibrary.missouri.org
SUMMARY:Closed for Memorial Day
DESCRIPTION:The Ray County Library will be closed on May 27\, 2024 in observance of Memorial Day.
URL:https://raycountylibrary.missouri.org/event/closed-for-memorial-day-2/
CATEGORIES:All Ages
ATTACH;FMTTYPE=image/png:https://raycountylibrary.missouri.org/wp-content/uploads/2024/05/Closed-Memorial-Day.png
END:VEVENT
BEGIN:VEVENT
DTSTART;VALUE=DATE:20240508
DTEND;VALUE=DATE:20240509
DTSTAMP:20260419T190409
CREATED:20240501T151356Z
LAST-MODIFIED:20240501T151356Z
UID:2035-1715126400-1715212799@raycountylibrary.missouri.org
SUMMARY:Closed for Truman Day
DESCRIPTION:The Ray County Library will be closed on May 8\, 2024 in observance of Truman Day.
URL:https://raycountylibrary.missouri.org/event/closed-for-truman-day-2/
CATEGORIES:All Ages
ATTACH;FMTTYPE=image/png:https://raycountylibrary.missouri.org/wp-content/uploads/2024/05/Closed-Truman-Day.png
END:VEVENT
BEGIN:VEVENT
DTSTART;VALUE=DATE:20240504
DTEND;VALUE=DATE:20240505
DTSTAMP:20260419T190409
CREATED:20240429T220326Z
LAST-MODIFIED:20240501T151415Z
UID:2025-1714780800-1714867199@raycountylibrary.missouri.org
SUMMARY:Closed for the Mushroom Festival!
DESCRIPTION:Come see us at the festival from 9-2!
URL:https://raycountylibrary.missouri.org/event/closed-for-the-mushroom-festival/
LOCATION:Richmond Square\, 100 W Main St\, Richmond\, MO\, 64085\, United States
CATEGORIES:All Ages
ATTACH;FMTTYPE=image/png:https://raycountylibrary.missouri.org/wp-content/uploads/2024/04/Mush-Fest.png
END:VEVENT
BEGIN:VEVENT
DTSTART;TZID=America/Chicago:20240503T000000
DTEND;TZID=America/Chicago:20240504T000000
DTSTAMP:20260419T190409
CREATED:20240501T150832Z
LAST-MODIFIED:20240501T150947Z
UID:2032-1714694400-1714780800@raycountylibrary.missouri.org
SUMMARY:Mushroom Festival!
DESCRIPTION:Come see us at the Mushroom Festival\, Friday & Saturday at booth 416!
URL:https://raycountylibrary.missouri.org/event/mushroom-festival/
LOCATION:Richmond Square\, 100 W Main St\, Richmond\, MO\, 64085\, United States
CATEGORIES:All Ages
ATTACH;FMTTYPE=image/png:https://raycountylibrary.missouri.org/wp-content/uploads/2024/05/Mush-Fest-Hours.png
END:VEVENT
BEGIN:VEVENT
DTSTART;TZID=America/Chicago:20240205T170000
DTEND;TZID=America/Chicago:20240205T180000
DTSTAMP:20260419T190409
CREATED:20240122T150913Z
LAST-MODIFIED:20240122T150913Z
UID:1809-1707152400-1707156000@raycountylibrary.missouri.org
SUMMARY:Regular meeting of the Ray County Library Board of Trustees
DESCRIPTION:Regular meeting of the Ray County Library Board of Trustees.
URL:https://raycountylibrary.missouri.org/event/regular-meeting-of-the-ray-county-library-board-of-trustees/
LOCATION:Library Community Room
CATEGORIES:All Ages
END:VEVENT
BEGIN:VEVENT
DTSTART;VALUE=DATE:20231213
DTEND;VALUE=DATE:20240201
DTSTAMP:20260419T190409
CREATED:20231213T225019Z
LAST-MODIFIED:20231213T225019Z
UID:1700-1702425600-1706745599@raycountylibrary.missouri.org
SUMMARY:Food for Fines
DESCRIPTION:Food for Fines is back! We’re collecting canned goods and other nonperishables for the Salvation Army from December 13\, 2023 through the end of January 2024. 1 food item = $1 in forgiven fines.
URL:https://raycountylibrary.missouri.org/event/food-for-fines/
CATEGORIES:All Ages
ATTACH;FMTTYPE=image/png:https://raycountylibrary.missouri.org/wp-content/uploads/2023/12/Food-for-Fines.png
END:VEVENT
BEGIN:VEVENT
DTSTART;TZID=America/Chicago:20230516T180000
DTEND;TZID=America/Chicago:20230516T190000
DTSTAMP:20260419T190409
CREATED:20230509T173120Z
LAST-MODIFIED:20230509T183228Z
UID:1111-1684260000-1684263600@raycountylibrary.missouri.org
SUMMARY:Game Night!
DESCRIPTION:Come join us for fun and games!
URL:https://raycountylibrary.missouri.org/event/game-night-6/
LOCATION:Library Community Room
CATEGORIES:All Ages
ATTACH;FMTTYPE=image/png:https://raycountylibrary.missouri.org/wp-content/uploads/2023/05/May-Game-Night-1.png
END:VEVENT
BEGIN:VEVENT
DTSTART;VALUE=DATE:20230506
DTEND;VALUE=DATE:20230507
DTSTAMP:20260419T190409
CREATED:20230505T200230Z
LAST-MODIFIED:20230505T200230Z
UID:1076-1683331200-1683417599@raycountylibrary.missouri.org
SUMMARY:Closed for Mushroom Festival
DESCRIPTION:Come visit us at the festival! \n 
URL:https://raycountylibrary.missouri.org/event/closed-for-mushroom-festival/
LOCATION:Richmond Square\, 100 W Main St\, Richmond\, MO\, 64085\, United States
CATEGORIES:All Ages
ATTACH;FMTTYPE=image/png:https://raycountylibrary.missouri.org/wp-content/uploads/2023/05/mushfest-flier.png
END:VEVENT
BEGIN:VEVENT
DTSTART;TZID=America/Chicago:20230418T180000
DTEND;TZID=America/Chicago:20230418T190000
DTSTAMP:20260419T190409
CREATED:20230417T180710Z
LAST-MODIFIED:20230417T180710Z
UID:1044-1681840800-1681844400@raycountylibrary.missouri.org
SUMMARY:Game Night
DESCRIPTION:Come and join us for a night of fun and games! Bring friends and family.
URL:https://raycountylibrary.missouri.org/event/game-night-5/
LOCATION:Library Community Room
CATEGORIES:All Ages
ATTACH;FMTTYPE=image/jpeg:https://raycountylibrary.missouri.org/wp-content/uploads/2023/04/game-night.jpg
END:VEVENT
BEGIN:VEVENT
DTSTART;TZID=America/Chicago:20230321T180000
DTEND;TZID=America/Chicago:20230321T190000
DTSTAMP:20260419T190409
CREATED:20230306T184504Z
LAST-MODIFIED:20230306T184504Z
UID:972-1679421600-1679425200@raycountylibrary.missouri.org
SUMMARY:Game Night
DESCRIPTION:Come and join us for a night of fun and games! Bring friends and family.
URL:https://raycountylibrary.missouri.org/event/game-night-4/
LOCATION:Library Community Room
CATEGORIES:All Ages
ATTACH;FMTTYPE=image/png:https://raycountylibrary.missouri.org/wp-content/uploads/2023/03/GAME-NIGHT.png
END:VEVENT
BEGIN:VEVENT
DTSTART;TZID=America/Chicago:20230221T180000
DTEND;TZID=America/Chicago:20230221T190000
DTSTAMP:20260419T190409
CREATED:20230218T162329Z
LAST-MODIFIED:20230218T162329Z
UID:915-1677002400-1677006000@raycountylibrary.missouri.org
SUMMARY:Game Night
DESCRIPTION:Come join us for a night of fun and games!
URL:https://raycountylibrary.missouri.org/event/game-night-3/
LOCATION:Library Community Room
CATEGORIES:All Ages
ATTACH;FMTTYPE=image/png:https://raycountylibrary.missouri.org/wp-content/uploads/2023/02/Game-Night.png
END:VEVENT
BEGIN:VEVENT
DTSTART;VALUE=DATE:20230220
DTEND;VALUE=DATE:20230221
DTSTAMP:20260419T190409
CREATED:20230218T162228Z
LAST-MODIFIED:20230218T162228Z
UID:913-1676851200-1676937599@raycountylibrary.missouri.org
SUMMARY:Closed for President's Day
DESCRIPTION:The library will be closed on Monday\, February 20\, 2023 for the President’s Day Holiday.
URL:https://raycountylibrary.missouri.org/event/closed-for-presidents-day/
CATEGORIES:All Ages
ATTACH;FMTTYPE=image/png:https://raycountylibrary.missouri.org/wp-content/uploads/2023/02/The-Ray-County-Library-will-be.png
END:VEVENT
BEGIN:VEVENT
DTSTART;VALUE=DATE:20230208
DTEND;VALUE=DATE:20230401
DTSTAMP:20260419T190409
CREATED:20230225T171851Z
LAST-MODIFIED:20230225T171851Z
UID:929-1675814400-1680307199@raycountylibrary.missouri.org
SUMMARY:Winter Reading Program
DESCRIPTION:Readers will learn about the history of emojis\, explore the importance of emotions\, and discover fun activities to express yourself fully by participating in this year’s winter reading program! \nRegister here: https://raycountylibrary.beanstack.org/reader365
URL:https://raycountylibrary.missouri.org/event/winter-reading-program/
LOCATION:Ray County Library\, 215 E Lexington St\, Richmond\, MO\, 64085\, United States
CATEGORIES:All Ages
ATTACH;FMTTYPE=image/png:https://raycountylibrary.missouri.org/wp-content/uploads/2023/02/winter-program.png
END:VEVENT
BEGIN:VEVENT
DTSTART;TZID=America/Chicago:20230117T180000
DTEND;TZID=America/Chicago:20230117T190000
DTSTAMP:20260419T190409
CREATED:20230118T194724Z
LAST-MODIFIED:20230118T194724Z
UID:822-1673978400-1673982000@raycountylibrary.missouri.org
SUMMARY:Game Night
DESCRIPTION:Come join us for fun and games!
URL:https://raycountylibrary.missouri.org/event/game-night-2/
LOCATION:Library Community Room
CATEGORIES:All Ages
ATTACH;FMTTYPE=image/png:https://raycountylibrary.missouri.org/wp-content/uploads/2023/01/game-night-flyer.png
END:VEVENT
BEGIN:VEVENT
DTSTART;TZID=America/Chicago:20221220T180000
DTEND;TZID=America/Chicago:20221220T190000
DTSTAMP:20260419T190409
CREATED:20221213T233833Z
LAST-MODIFIED:20221213T233833Z
UID:785-1671559200-1671562800@raycountylibrary.missouri.org
SUMMARY:Game Night
DESCRIPTION:Come join us for fun and board games!
URL:https://raycountylibrary.missouri.org/event/game-night/
LOCATION:Library Community Room
CATEGORIES:All Ages
ATTACH;FMTTYPE=image/png:https://raycountylibrary.missouri.org/wp-content/uploads/2022/12/Game-Night-Flyer.png
END:VEVENT
END:VCALENDAR