BEGIN:VCALENDAR
VERSION:2.0
PRODID:-//Ray County Library - ECPv6.15.20//NONSGML v1.0//EN
CALSCALE:GREGORIAN
METHOD:PUBLISH
X-ORIGINAL-URL:https://raycountylibrary.missouri.org
X-WR-CALDESC:Events for Ray County Library
REFRESH-INTERVAL;VALUE=DURATION:PT1H
X-Robots-Tag:noindex
X-PUBLISHED-TTL:PT1H
BEGIN:VTIMEZONE
TZID:America/Chicago
BEGIN:DAYLIGHT
TZOFFSETFROM:-0600
TZOFFSETTO:-0500
TZNAME:CDT
DTSTART:20230312T080000
END:DAYLIGHT
BEGIN:STANDARD
TZOFFSETFROM:-0500
TZOFFSETTO:-0600
TZNAME:CST
DTSTART:20231105T070000
END:STANDARD
BEGIN:DAYLIGHT
TZOFFSETFROM:-0600
TZOFFSETTO:-0500
TZNAME:CDT
DTSTART:20240310T080000
END:DAYLIGHT
BEGIN:STANDARD
TZOFFSETFROM:-0500
TZOFFSETTO:-0600
TZNAME:CST
DTSTART:20241103T070000
END:STANDARD
BEGIN:DAYLIGHT
TZOFFSETFROM:-0600
TZOFFSETTO:-0500
TZNAME:CDT
DTSTART:20250309T080000
END:DAYLIGHT
BEGIN:STANDARD
TZOFFSETFROM:-0500
TZOFFSETTO:-0600
TZNAME:CST
DTSTART:20251102T070000
END:STANDARD
END:VTIMEZONE
BEGIN:VEVENT
DTSTART;TZID=America/Chicago:20240501T100000
DTEND;TZID=America/Chicago:20240501T110000
DTSTAMP:20260424T075639
CREATED:20240426T165927Z
LAST-MODIFIED:20240426T165927Z
UID:2007-1714557600-1714561200@raycountylibrary.missouri.org
SUMMARY:Storytime!
DESCRIPTION:Research shows that children benefit from active participation in early learning activities. Bring your children to this event for stories and craft activities. This week’s theme is frogs and toads!
URL:https://raycountylibrary.missouri.org/event/storytime-62/
LOCATION:Library Community Room
CATEGORIES:Kids
ATTACH;FMTTYPE=image/png:https://raycountylibrary.missouri.org/wp-content/uploads/2024/04/Storytime-Frogs-Toads-51.png
END:VEVENT
BEGIN:VEVENT
DTSTART;TZID=America/Chicago:20240508T100000
DTEND;TZID=America/Chicago:20240508T110000
DTSTAMP:20260424T075639
CREATED:20240531T204558Z
LAST-MODIFIED:20240531T204604Z
UID:2107-1715162400-1715166000@raycountylibrary.missouri.org
SUMMARY:Storytime!
DESCRIPTION:Research shows that children benefit from active participation in early learning activities. Bring your children to this event for stories and craft activities. This week’s theme is fairy tales!
URL:https://raycountylibrary.missouri.org/event/storytime-66/
LOCATION:Library Community Room
CATEGORIES:Kids
ATTACH;FMTTYPE=image/png:https://raycountylibrary.missouri.org/wp-content/uploads/2024/05/Storytime-Fairy-Tales.png
END:VEVENT
BEGIN:VEVENT
DTSTART;TZID=America/Chicago:20240515T100000
DTEND;TZID=America/Chicago:20240515T110000
DTSTAMP:20260424T075639
CREATED:20240501T151940Z
LAST-MODIFIED:20240501T151940Z
UID:2046-1715767200-1715770800@raycountylibrary.missouri.org
SUMMARY:Storytime!
DESCRIPTION:Research shows that children benefit from active participation in early learning activities. Bring your children to this event for stories and craft activities. This week’s theme is firefighters
URL:https://raycountylibrary.missouri.org/event/storytime-63/
LOCATION:Library Community Room
CATEGORIES:Kids
ATTACH;FMTTYPE=image/png:https://raycountylibrary.missouri.org/wp-content/uploads/2024/05/Storytime-Firefighters.png
END:VEVENT
BEGIN:VEVENT
DTSTART;TZID=America/Chicago:20240522T100000
DTEND;TZID=America/Chicago:20240522T110000
DTSTAMP:20260424T075639
CREATED:20240501T153346Z
LAST-MODIFIED:20240501T153346Z
UID:2060-1716372000-1716375600@raycountylibrary.missouri.org
SUMMARY:Storytime!
DESCRIPTION:Early Literacy Storytime program for toddlers and preschoolers. This session’s theme is bees and will include fun stories\, activities\, and a craft!
URL:https://raycountylibrary.missouri.org/event/storytime-64/
LOCATION:Library Community Room
CATEGORIES:Kids
ATTACH;FMTTYPE=image/png:https://raycountylibrary.missouri.org/wp-content/uploads/2024/05/Storytime-Bees.png
END:VEVENT
BEGIN:VEVENT
DTSTART;TZID=America/Chicago:20240528T160000
DTEND;TZID=America/Chicago:20240528T170000
DTSTAMP:20260424T075639
CREATED:20240501T153608Z
LAST-MODIFIED:20240521T150340Z
UID:2065-1716912000-1716915600@raycountylibrary.missouri.org
SUMMARY:Kid Zone: Tye Dye
DESCRIPTION:This month’s kids’ craft program will be tye dye! This program is best for children in grades 1-5. Supplies and fun are provided!
URL:https://raycountylibrary.missouri.org/event/kid-zone-tye-dye/
LOCATION:Library Community Room
CATEGORIES:Kids
ATTACH;FMTTYPE=image/png:https://raycountylibrary.missouri.org/wp-content/uploads/2024/05/Kid-Zone-Tye-Dye-2.png
END:VEVENT
BEGIN:VEVENT
DTSTART;TZID=America/Chicago:20240529T100000
DTEND;TZID=America/Chicago:20240529T110000
DTSTAMP:20260424T075639
CREATED:20240501T153911Z
LAST-MODIFIED:20240501T153911Z
UID:2073-1716976800-1716980400@raycountylibrary.missouri.org
SUMMARY:Storytime!
DESCRIPTION:Research shows that children benefit from active participation in early learning activities. Bring your children to this event for stories and craft activities. This week’s theme is otters!
URL:https://raycountylibrary.missouri.org/event/storytime-65/
LOCATION:Library Community Room
CATEGORIES:Kids
ATTACH;FMTTYPE=image/png:https://raycountylibrary.missouri.org/wp-content/uploads/2024/05/Storytime-Otters.png
END:VEVENT
END:VCALENDAR