BEGIN:VCALENDAR
VERSION:2.0
PRODID:-//Ray County Library - ECPv6.15.20//NONSGML v1.0//EN
CALSCALE:GREGORIAN
METHOD:PUBLISH
X-ORIGINAL-URL:https://raycountylibrary.missouri.org
X-WR-CALDESC:Events for Ray County Library
REFRESH-INTERVAL;VALUE=DURATION:PT1H
X-Robots-Tag:noindex
X-PUBLISHED-TTL:PT1H
BEGIN:VTIMEZONE
TZID:America/Chicago
BEGIN:DAYLIGHT
TZOFFSETFROM:-0600
TZOFFSETTO:-0500
TZNAME:CDT
DTSTART:20230312T080000
END:DAYLIGHT
BEGIN:STANDARD
TZOFFSETFROM:-0500
TZOFFSETTO:-0600
TZNAME:CST
DTSTART:20231105T070000
END:STANDARD
BEGIN:DAYLIGHT
TZOFFSETFROM:-0600
TZOFFSETTO:-0500
TZNAME:CDT
DTSTART:20240310T080000
END:DAYLIGHT
BEGIN:STANDARD
TZOFFSETFROM:-0500
TZOFFSETTO:-0600
TZNAME:CST
DTSTART:20241103T070000
END:STANDARD
BEGIN:DAYLIGHT
TZOFFSETFROM:-0600
TZOFFSETTO:-0500
TZNAME:CDT
DTSTART:20250309T080000
END:DAYLIGHT
BEGIN:STANDARD
TZOFFSETFROM:-0500
TZOFFSETTO:-0600
TZNAME:CST
DTSTART:20251102T070000
END:STANDARD
END:VTIMEZONE
BEGIN:VEVENT
DTSTART;VALUE=DATE:20240603
DTEND;VALUE=DATE:20240811
DTSTAMP:20260425T230023
CREATED:20240531T212444Z
LAST-MODIFIED:20240531T212444Z
UID:2143-1717372800-1723334399@raycountylibrary.missouri.org
SUMMARY:2024 Childrens' Summer Reading Program
DESCRIPTION:The Ray County Library Summer Reading Program begins Monday\, June 3th. Be sure to register online at raycountylibrary.beanstack.org or in person at the Ray County Library for a free book and a chance to win some fantastic prizes!\n\n\nFor kids & teens (0-18):\n\n\nLog 600 minutes of reading time before August 6th for a free book and to be entered to win a grand prize!\n\n\n\nRegistration:\n1. Register online at raycountylibrary.beanstack.org or in-person at the library.\n2. Log minutes of reading online or in-person to earn badges\, free books\, and a chance to win one of this year’s great prizes.\n3. Complete the program by reading (and logging) your 600 minutes before August 6th.
URL:https://raycountylibrary.missouri.org/event/2024-childrens-summer-reading-program/
CATEGORIES:Kids,Teens,Youth
ATTACH;FMTTYPE=image/webp:https://raycountylibrary.missouri.org/wp-content/uploads/2024/05/SRP-Banner-kids.webp
END:VEVENT
BEGIN:VEVENT
DTSTART;TZID=America/Chicago:20240702T150000
DTEND;TZID=America/Chicago:20240702T160000
DTSTAMP:20260425T230023
CREATED:20240627T171740Z
LAST-MODIFIED:20240627T171740Z
UID:2187-1719932400-1719936000@raycountylibrary.missouri.org
SUMMARY:MU Extension: Elementary STEM
DESCRIPTION:Join us Tuesday\, July 2 from 3 to 4 pm for Elementary STEM\, presented by MU Extension\, and learn all about Science\, Technology\, Engineering and Mathematics! This program is best for grades 1-5.
URL:https://raycountylibrary.missouri.org/event/mu-extension-elementary-stem/
LOCATION:Library Community Room
CATEGORIES:Kids
ATTACH;FMTTYPE=image/png:https://raycountylibrary.missouri.org/wp-content/uploads/2024/06/Elementary-STEM.png
END:VEVENT
BEGIN:VEVENT
DTSTART;TZID=America/Chicago:20240703T100000
DTEND;TZID=America/Chicago:20240703T110000
DTSTAMP:20260425T230023
CREATED:20240629T165252Z
LAST-MODIFIED:20240629T165305Z
UID:2199-1720000800-1720004400@raycountylibrary.missouri.org
SUMMARY:Storytime!
DESCRIPTION:Research shows that children benefit from active participation in early learning activities. Bring your children to this event for stories and craft activities. This week’s theme is Independence Day!
URL:https://raycountylibrary.missouri.org/event/storytime-70/
LOCATION:Library Community Room
CATEGORIES:Kids
ATTACH;FMTTYPE=image/png:https://raycountylibrary.missouri.org/wp-content/uploads/2024/06/Storytime-Independence-Day.png
END:VEVENT
BEGIN:VEVENT
DTSTART;TZID=America/Chicago:20240710T100000
DTEND;TZID=America/Chicago:20240710T110000
DTSTAMP:20260425T230023
CREATED:20240701T144117Z
LAST-MODIFIED:20240701T144117Z
UID:2219-1720605600-1720609200@raycountylibrary.missouri.org
SUMMARY:Storytime!
DESCRIPTION:Early Literacy Storytime program for toddlers and preschoolers. This session’s theme is eggs and will include fun stories\, activities\, and a craft!
URL:https://raycountylibrary.missouri.org/event/storytime-71/
LOCATION:Library Community Room
CATEGORIES:Kids
ATTACH;FMTTYPE=image/png:https://raycountylibrary.missouri.org/wp-content/uploads/2024/07/Storytime-Eggs.png
END:VEVENT
BEGIN:VEVENT
DTSTART;TZID=America/Chicago:20240717T100000
DTEND;TZID=America/Chicago:20240717T110000
DTSTAMP:20260425T230023
CREATED:20240712T152810Z
LAST-MODIFIED:20240712T152810Z
UID:2247-1721210400-1721214000@raycountylibrary.missouri.org
SUMMARY:Storytime!
DESCRIPTION:Research shows that children benefit from active participation in early learning activities. Bring your children to this event for stories and craft activities. This week’s theme is dinosaurs!
URL:https://raycountylibrary.missouri.org/event/storytime-72/
LOCATION:Library Community Room
CATEGORIES:Kids
ATTACH;FMTTYPE=image/png:https://raycountylibrary.missouri.org/wp-content/uploads/2024/07/Storytime-Dinosaurs.png
END:VEVENT
BEGIN:VEVENT
DTSTART;TZID=America/Chicago:20240723T160000
DTEND;TZID=America/Chicago:20240723T170000
DTSTAMP:20260425T230023
CREATED:20240712T154414Z
LAST-MODIFIED:20240712T154414Z
UID:2253-1721750400-1721754000@raycountylibrary.missouri.org
SUMMARY:Kid Zone: STEM Spray Bottle Paintings
DESCRIPTION:This month’s kids’ craft program will be STEM spray bottle paintings! This program is best for children in grades 1-5. Supplies and fun are provided!
URL:https://raycountylibrary.missouri.org/event/kid-zone-stem-spray-bottle-paintings/
LOCATION:Library Community Room
CATEGORIES:Kids
ATTACH;FMTTYPE=image/png:https://raycountylibrary.missouri.org/wp-content/uploads/2024/07/Kid-Zone-STEM-Spray-Bottle-Paintings.png
END:VEVENT
BEGIN:VEVENT
DTSTART;TZID=America/Chicago:20240724T100000
DTEND;TZID=America/Chicago:20240724T110000
DTSTAMP:20260425T230023
CREATED:20240712T154834Z
LAST-MODIFIED:20240712T154834Z
UID:2261-1721815200-1721818800@raycountylibrary.missouri.org
SUMMARY:Storytime!
DESCRIPTION:Early Literacy Storytime program for toddlers and preschoolers. This session’s theme is llamas and will include fun stories\, activities\, and a craft!
URL:https://raycountylibrary.missouri.org/event/storytime-73/
LOCATION:Library Community Room
CATEGORIES:Kids
ATTACH;FMTTYPE=image/png:https://raycountylibrary.missouri.org/wp-content/uploads/2024/07/Storytime-Llama-llama.png
END:VEVENT
BEGIN:VEVENT
DTSTART;TZID=America/Chicago:20240730T100000
DTEND;TZID=America/Chicago:20240730T110000
DTSTAMP:20260425T230023
CREATED:20240724T192940Z
LAST-MODIFIED:20240730T174957Z
UID:2278-1722333600-1722337200@raycountylibrary.missouri.org
SUMMARY:Puppet Show!
DESCRIPTION:Join us Tuesday\, July 30 from 10 to 10:45 am as StoneLion Puppet Theatre presents: The Great Race! Based on the Aesop Fable of The Tortoise and the Hare\, StoneLion’s unique twist includes a junkfood junky rabbit with an attitude and a sweet hard working turtle determined to show all the animals on the great plain that winning a race does not mean you can lord it over everyone else. Each of us have strengths that we can capitalize on and sportsmanship should always be displayed with grace. This program is best for toddlers through 5th grade.
URL:https://raycountylibrary.missouri.org/event/puppet-show-2/
LOCATION:Library Community Room
CATEGORIES:Kids
ATTACH;FMTTYPE=image/png:https://raycountylibrary.missouri.org/wp-content/uploads/2024/07/SLPT-The-Great-Race.png
END:VEVENT
BEGIN:VEVENT
DTSTART;TZID=America/Chicago:20240731T100000
DTEND;TZID=America/Chicago:20240731T110000
DTSTAMP:20260425T230023
CREATED:20240724T193251Z
LAST-MODIFIED:20240724T193251Z
UID:2286-1722420000-1722423600@raycountylibrary.missouri.org
SUMMARY:Storytime!
DESCRIPTION:Research shows that children benefit from active participation in early learning activities. Bring your children to this event for stories and craft activities. This week’s theme is mermaids!
URL:https://raycountylibrary.missouri.org/event/storytime-74/
LOCATION:Library Community Room
CATEGORIES:Kids
ATTACH;FMTTYPE=image/png:https://raycountylibrary.missouri.org/wp-content/uploads/2024/07/Storytime-Mermaids.png
END:VEVENT
END:VCALENDAR