BEGIN:VCALENDAR
VERSION:2.0
PRODID:-//Ray County Library - ECPv6.15.20//NONSGML v1.0//EN
CALSCALE:GREGORIAN
METHOD:PUBLISH
X-WR-CALNAME:Ray County Library
X-ORIGINAL-URL:https://raycountylibrary.missouri.org
X-WR-CALDESC:Events for Ray County Library
REFRESH-INTERVAL;VALUE=DURATION:PT1H
X-Robots-Tag:noindex
X-PUBLISHED-TTL:PT1H
BEGIN:VTIMEZONE
TZID:America/Chicago
BEGIN:DAYLIGHT
TZOFFSETFROM:-0600
TZOFFSETTO:-0500
TZNAME:CDT
DTSTART:20230312T080000
END:DAYLIGHT
BEGIN:STANDARD
TZOFFSETFROM:-0500
TZOFFSETTO:-0600
TZNAME:CST
DTSTART:20231105T070000
END:STANDARD
BEGIN:DAYLIGHT
TZOFFSETFROM:-0600
TZOFFSETTO:-0500
TZNAME:CDT
DTSTART:20240310T080000
END:DAYLIGHT
BEGIN:STANDARD
TZOFFSETFROM:-0500
TZOFFSETTO:-0600
TZNAME:CST
DTSTART:20241103T070000
END:STANDARD
BEGIN:DAYLIGHT
TZOFFSETFROM:-0600
TZOFFSETTO:-0500
TZNAME:CDT
DTSTART:20250309T080000
END:DAYLIGHT
BEGIN:STANDARD
TZOFFSETFROM:-0500
TZOFFSETTO:-0600
TZNAME:CST
DTSTART:20251102T070000
END:STANDARD
END:VTIMEZONE
BEGIN:VEVENT
DTSTART;VALUE=DATE:20240603
DTEND;VALUE=DATE:20240811
DTSTAMP:20260425T084211
CREATED:20240531T212444Z
LAST-MODIFIED:20240531T212444Z
UID:2143-1717372800-1723334399@raycountylibrary.missouri.org
SUMMARY:2024 Childrens' Summer Reading Program
DESCRIPTION:The Ray County Library Summer Reading Program begins Monday\, June 3th. Be sure to register online at raycountylibrary.beanstack.org or in person at the Ray County Library for a free book and a chance to win some fantastic prizes!\n\n\nFor kids & teens (0-18):\n\n\nLog 600 minutes of reading time before August 6th for a free book and to be entered to win a grand prize!\n\n\n\nRegistration:\n1. Register online at raycountylibrary.beanstack.org or in-person at the library.\n2. Log minutes of reading online or in-person to earn badges\, free books\, and a chance to win one of this year’s great prizes.\n3. Complete the program by reading (and logging) your 600 minutes before August 6th.
URL:https://raycountylibrary.missouri.org/event/2024-childrens-summer-reading-program/
CATEGORIES:Kids,Teens,Youth
ATTACH;FMTTYPE=image/webp:https://raycountylibrary.missouri.org/wp-content/uploads/2024/05/SRP-Banner-kids.webp
END:VEVENT
BEGIN:VEVENT
DTSTART;TZID=America/Chicago:20240806T150000
DTEND;TZID=America/Chicago:20240806T160000
DTSTAMP:20260425T084211
CREATED:20240730T172302Z
LAST-MODIFIED:20240731T173803Z
UID:2289-1722956400-1722960000@raycountylibrary.missouri.org
SUMMARY:MU Extension: Elementary STEM
DESCRIPTION:Join us Tuesday\, August 6 from 3 to 4 pm for Elementary STEM\, presented by MU Extension\, and learn all about Science\, Technology\, Engineering and Mathematics! This program is best for grades 1-5.
URL:https://raycountylibrary.missouri.org/event/mu-extension-elementary-stem-2/
LOCATION:Library Community Room
CATEGORIES:Kids
ATTACH;FMTTYPE=image/png:https://raycountylibrary.missouri.org/wp-content/uploads/2024/07/Your-paragraph-text.png
END:VEVENT
BEGIN:VEVENT
DTSTART;TZID=America/Chicago:20240807T100000
DTEND;TZID=America/Chicago:20240807T110000
DTSTAMP:20260425T084211
CREATED:20240730T173412Z
LAST-MODIFIED:20240730T173412Z
UID:2303-1723024800-1723028400@raycountylibrary.missouri.org
SUMMARY:Storytime!
DESCRIPTION:Research shows that children benefit from active participation in early learning activities. Bring your children to this event for stories and craft activities. This week’s theme is pets!
URL:https://raycountylibrary.missouri.org/event/storytime-75/
LOCATION:Library Community Room
CATEGORIES:Kids
ATTACH;FMTTYPE=image/png:https://raycountylibrary.missouri.org/wp-content/uploads/2024/07/StoryTime-Pets.png
END:VEVENT
BEGIN:VEVENT
DTSTART;TZID=America/Chicago:20240814T100000
DTEND;TZID=America/Chicago:20240814T110000
DTSTAMP:20260425T084211
CREATED:20240730T174641Z
LAST-MODIFIED:20240730T174641Z
UID:2318-1723629600-1723633200@raycountylibrary.missouri.org
SUMMARY:Storytime!
DESCRIPTION:Early Literacy Storytime program for toddlers and preschoolers. This session’s theme is ocean animals and will include fun stories\, activities\, and a craft!
URL:https://raycountylibrary.missouri.org/event/storytime-76/
LOCATION:Library Community Room
CATEGORIES:Kids
ATTACH;FMTTYPE=image/png:https://raycountylibrary.missouri.org/wp-content/uploads/2024/07/Storytime.png
END:VEVENT
BEGIN:VEVENT
DTSTART;TZID=America/Chicago:20240821T100000
DTEND;TZID=America/Chicago:20240821T110000
DTSTAMP:20260425T084211
CREATED:20240731T184834Z
LAST-MODIFIED:20240731T184834Z
UID:2333-1724234400-1724238000@raycountylibrary.missouri.org
SUMMARY:Storytime!
DESCRIPTION:Research shows that children benefit from active participation in early learning activities. Bring your children to this event for stories and craft activities. This week’s theme is opposites!
URL:https://raycountylibrary.missouri.org/event/storytime-77/
LOCATION:Library Community Room
CATEGORIES:Kids
ATTACH;FMTTYPE=image/png:https://raycountylibrary.missouri.org/wp-content/uploads/2024/07/Opposites-worksheet.png
END:VEVENT
BEGIN:VEVENT
DTSTART;TZID=America/Chicago:20240827T160000
DTEND;TZID=America/Chicago:20240827T170000
DTSTAMP:20260425T084211
CREATED:20240803T155540Z
LAST-MODIFIED:20240803T155540Z
UID:2341-1724774400-1724778000@raycountylibrary.missouri.org
SUMMARY:Kid Zone: Boondoggle Keychains
DESCRIPTION:This month’s kids’ craft program will be STEM boondoggle keychains! This program is best for children in grades 1-5. Supplies and fun are provided!
URL:https://raycountylibrary.missouri.org/event/kid-zone-boondoggle-keychains/
LOCATION:Library Community Room
CATEGORIES:Kids
ATTACH;FMTTYPE=image/png:https://raycountylibrary.missouri.org/wp-content/uploads/2024/08/kid-zone.png
END:VEVENT
BEGIN:VEVENT
DTSTART;TZID=America/Chicago:20240828T100000
DTEND;TZID=America/Chicago:20240828T110000
DTSTAMP:20260425T084211
CREATED:20240803T160000Z
LAST-MODIFIED:20240803T160000Z
UID:2350-1724839200-1724842800@raycountylibrary.missouri.org
SUMMARY:Storytime!
DESCRIPTION:Research shows that children benefit from active participation in early learning activities. Bring your children to this event for stories and craft activities. This week’s theme is silly stories!
URL:https://raycountylibrary.missouri.org/event/storytime-78/
LOCATION:Library Community Room
CATEGORIES:Kids
ATTACH;FMTTYPE=image/png:https://raycountylibrary.missouri.org/wp-content/uploads/2024/08/storytime-silly-stories.png
END:VEVENT
END:VCALENDAR