BEGIN:VCALENDAR
VERSION:2.0
PRODID:-//Ray County Library - ECPv6.15.20//NONSGML v1.0//EN
CALSCALE:GREGORIAN
METHOD:PUBLISH
X-ORIGINAL-URL:https://raycountylibrary.missouri.org
X-WR-CALDESC:Events for Ray County Library
REFRESH-INTERVAL;VALUE=DURATION:PT1H
X-Robots-Tag:noindex
X-PUBLISHED-TTL:PT1H
BEGIN:VTIMEZONE
TZID:America/Chicago
BEGIN:DAYLIGHT
TZOFFSETFROM:-0600
TZOFFSETTO:-0500
TZNAME:CDT
DTSTART:20240310T080000
END:DAYLIGHT
BEGIN:STANDARD
TZOFFSETFROM:-0500
TZOFFSETTO:-0600
TZNAME:CST
DTSTART:20241103T070000
END:STANDARD
BEGIN:DAYLIGHT
TZOFFSETFROM:-0600
TZOFFSETTO:-0500
TZNAME:CDT
DTSTART:20250309T080000
END:DAYLIGHT
BEGIN:STANDARD
TZOFFSETFROM:-0500
TZOFFSETTO:-0600
TZNAME:CST
DTSTART:20251102T070000
END:STANDARD
BEGIN:DAYLIGHT
TZOFFSETFROM:-0600
TZOFFSETTO:-0500
TZNAME:CDT
DTSTART:20260308T080000
END:DAYLIGHT
BEGIN:STANDARD
TZOFFSETFROM:-0500
TZOFFSETTO:-0600
TZNAME:CST
DTSTART:20261101T070000
END:STANDARD
END:VTIMEZONE
BEGIN:VEVENT
DTSTART;VALUE=DATE:20250113
DTEND;VALUE=DATE:20250316
DTSTAMP:20260424T075419
CREATED:20250108T210659Z
LAST-MODIFIED:20250117T215306Z
UID:2819-1736726400-1742083199@raycountylibrary.missouri.org
SUMMARY:Winter Reading Program
DESCRIPTION:Ready\, set\, READ! We encourage readers of all ages to challenge themselves to become reading machines this winter. From Jan. 13-March 15\, Ray County Library is participating in “Be a Reading Machine\,” a reading challenge sponsored by Beanstack and Baker & Taylor. We challenge our community to read and log at least 5 books during the challenge. For adults\, read 5 books for a free mug. Read 10 or more to be eligible for a Corsair airfryer! Children can read 5 books to claim a free book\, a book light\, and a small prize!
URL:https://raycountylibrary.missouri.org/event/winter-reading-program-2/
CATEGORIES:All Ages
ATTACH;FMTTYPE=image/png:https://raycountylibrary.missouri.org/wp-content/uploads/2025/01/Winter-Reading-Program-25-Front.png
END:VEVENT
BEGIN:VEVENT
DTSTART;TZID=America/Chicago:20250303T170000
DTEND;TZID=America/Chicago:20250303T180000
DTSTAMP:20260424T075419
CREATED:20250226T212720Z
LAST-MODIFIED:20250226T212720Z
UID:2956-1741021200-1741024800@raycountylibrary.missouri.org
SUMMARY:Ray County Library Board of Trustees Meeting
DESCRIPTION:Monthly Meeting of the Ray County Library Board of Trustees.
URL:https://raycountylibrary.missouri.org/event/ray-county-library-board-of-trustees-meeting-29/
LOCATION:Library Community Room
CATEGORIES:Adults
END:VEVENT
BEGIN:VEVENT
DTSTART;TZID=America/Chicago:20250304T180000
DTEND;TZID=America/Chicago:20250304T190000
DTSTAMP:20260424T075419
CREATED:20250226T213521Z
LAST-MODIFIED:20250226T213521Z
UID:2958-1741111200-1741114800@raycountylibrary.missouri.org
SUMMARY:Book Club
DESCRIPTION:Book Club Meeting where a selected book will be discussed. This month’s book is “The Stars Are Fire” by Anita Shreve. Members can also pick up next month’s book\, “Conviction” by Denise Mina. Contact the library for details regarding joining the book club.
URL:https://raycountylibrary.missouri.org/event/book-club-29/
LOCATION:Library Community Room
CATEGORIES:Adults
ATTACH;FMTTYPE=image/png:https://raycountylibrary.missouri.org/wp-content/uploads/2025/02/March-Book-Club.png
END:VEVENT
BEGIN:VEVENT
DTSTART;TZID=America/Chicago:20250305T100000
DTEND;TZID=America/Chicago:20250305T110000
DTSTAMP:20260424T075419
CREATED:20250226T214018Z
LAST-MODIFIED:20250303T221024Z
UID:2961-1741168800-1741172400@raycountylibrary.missouri.org
SUMMARY:Storytime!
DESCRIPTION:Research shows that children benefit from active participation in early learning activities. Bring your children to this event for stories and craft activities. This week’s theme will be spiders!
URL:https://raycountylibrary.missouri.org/event/storytime-103/
LOCATION:Library Community Room
CATEGORIES:Kids
ATTACH;FMTTYPE=image/png:https://raycountylibrary.missouri.org/wp-content/uploads/2025/02/3.5-storytime-1.png
END:VEVENT
BEGIN:VEVENT
DTSTART;TZID=America/Chicago:20250306T160000
DTEND;TZID=America/Chicago:20250306T170000
DTSTAMP:20260424T075419
CREATED:20250226T214137Z
LAST-MODIFIED:20250226T214137Z
UID:2964-1741276800-1741280400@raycountylibrary.missouri.org
SUMMARY:Next Chapter Book Club
DESCRIPTION:Helping people with disabilities enjoy books\, friends\, and their community. This is a book club meeting where a selected book will be read and discussed\, in partnership with Special Needs Services of Ray County. Contact the library or Special Needs Services for details regarding joining the book club.
URL:https://raycountylibrary.missouri.org/event/next-chapter-book-club-52/
LOCATION:Library Community Room
CATEGORIES:Adults
ATTACH;FMTTYPE=image/png:https://raycountylibrary.missouri.org/wp-content/uploads/2025/02/next-chapter-book-club.png
END:VEVENT
BEGIN:VEVENT
DTSTART;TZID=America/Chicago:20250311T180000
DTEND;TZID=America/Chicago:20250311T190000
DTSTAMP:20260424T075419
CREATED:20250303T222844Z
LAST-MODIFIED:20250303T222844Z
UID:2980-1741716000-1741719600@raycountylibrary.missouri.org
SUMMARY:Crafting for Adults: Scented Epsom Salts
DESCRIPTION:This month’s craft will be making scented epsom salts! It will be a relaxing evening that offers allows room for creativity in style. All supplies will be provided. Click here to register to attend.
URL:https://raycountylibrary.missouri.org/event/crafting-for-adults-scented-epsom-salts/
LOCATION:Library Community Room
CATEGORIES:Adults
ATTACH;FMTTYPE=image/png:https://raycountylibrary.missouri.org/wp-content/uploads/2025/03/3.11-Craft-Night.png
END:VEVENT
BEGIN:VEVENT
DTSTART;TZID=America/Chicago:20250312T100000
DTEND;TZID=America/Chicago:20250312T110000
DTSTAMP:20260424T075419
CREATED:20250303T223029Z
LAST-MODIFIED:20250303T223029Z
UID:2983-1741773600-1741777200@raycountylibrary.missouri.org
SUMMARY:Storytime!
DESCRIPTION:Early Literacy Storytime program for toddlers and preschoolers. This session’s theme is St. Patricks Day and will include fun stories\, activities\, and a craft!
URL:https://raycountylibrary.missouri.org/event/storytime-104/
LOCATION:Library Community Room
CATEGORIES:Kids
ATTACH;FMTTYPE=image/png:https://raycountylibrary.missouri.org/wp-content/uploads/2025/03/3.12-Storytime.png
END:VEVENT
BEGIN:VEVENT
DTSTART;TZID=America/Chicago:20250319T100000
DTEND;TZID=America/Chicago:20250319T110000
DTSTAMP:20260424T075419
CREATED:20250303T223550Z
LAST-MODIFIED:20250303T223550Z
UID:2989-1742378400-1742382000@raycountylibrary.missouri.org
SUMMARY:Storytime!
DESCRIPTION:Research shows that children benefit from active participation in early learning activities. Bring your children to this event for stories and craft activities. This week’s theme is spring!
URL:https://raycountylibrary.missouri.org/event/storytime-105/
LOCATION:Library Community Room
CATEGORIES:Kids
ATTACH;FMTTYPE=image/png:https://raycountylibrary.missouri.org/wp-content/uploads/2025/03/3.19-Storytime.png
END:VEVENT
BEGIN:VEVENT
DTSTART;TZID=America/Chicago:20250320T160000
DTEND;TZID=America/Chicago:20250320T170000
DTSTAMP:20260424T075419
CREATED:20250303T223727Z
LAST-MODIFIED:20250303T223727Z
UID:2992-1742486400-1742490000@raycountylibrary.missouri.org
SUMMARY:Next Chapter Book Club
DESCRIPTION:Helping people with disabilities enjoy books\, friends\, and their community. This is a book club meeting where a selected book will be read and discussed\, in partnership with Special Needs Services of Ray County. Contact the library or Special Needs Services for details regarding joining the book club.
URL:https://raycountylibrary.missouri.org/event/next-chapter-book-club-53/
LOCATION:Library Community Room
CATEGORIES:Adults
ATTACH;FMTTYPE=image/png:https://raycountylibrary.missouri.org/wp-content/uploads/2025/03/next-chapter-book-club-1.png
END:VEVENT
BEGIN:VEVENT
DTSTART;TZID=America/Chicago:20250325T160000
DTEND;TZID=America/Chicago:20250325T170000
DTSTAMP:20260424T075419
CREATED:20250303T224142Z
LAST-MODIFIED:20250303T224142Z
UID:2996-1742918400-1742922000@raycountylibrary.missouri.org
SUMMARY:Kid Zone STEM
DESCRIPTION:This month’s kids’ craft program will be announced soon! This program is best for children in grades 1-5. Supplies and fun are provided!
URL:https://raycountylibrary.missouri.org/event/kid-zone-stem-3/
LOCATION:Library Community Room
CATEGORIES:Kids
ATTACH;FMTTYPE=image/png:https://raycountylibrary.missouri.org/wp-content/uploads/2025/03/3.25-kid-zone.png
END:VEVENT
BEGIN:VEVENT
DTSTART;TZID=America/Chicago:20250326T100000
DTEND;TZID=America/Chicago:20250326T110000
DTSTAMP:20260424T075419
CREATED:20250303T224354Z
LAST-MODIFIED:20250303T224354Z
UID:2999-1742983200-1742986800@raycountylibrary.missouri.org
SUMMARY:Storytime!
DESCRIPTION:Early Literacy Storytime program for toddlers and preschoolers. This session’s theme is the alphabet and will include fun stories\, activities\, and a craft!
URL:https://raycountylibrary.missouri.org/event/storytime-106/
LOCATION:Library Community Room
CATEGORIES:Kids
ATTACH;FMTTYPE=image/png:https://raycountylibrary.missouri.org/wp-content/uploads/2025/03/3.26-Storytime.png
END:VEVENT
END:VCALENDAR