BEGIN:VCALENDAR
VERSION:2.0
PRODID:-//Ray County Library - ECPv6.15.20//NONSGML v1.0//EN
CALSCALE:GREGORIAN
METHOD:PUBLISH
X-WR-CALNAME:Ray County Library
X-ORIGINAL-URL:https://raycountylibrary.missouri.org
X-WR-CALDESC:Events for Ray County Library
REFRESH-INTERVAL;VALUE=DURATION:PT1H
X-Robots-Tag:noindex
X-PUBLISHED-TTL:PT1H
BEGIN:VTIMEZONE
TZID:America/Chicago
BEGIN:DAYLIGHT
TZOFFSETFROM:-0600
TZOFFSETTO:-0500
TZNAME:CDT
DTSTART:20240310T080000
END:DAYLIGHT
BEGIN:STANDARD
TZOFFSETFROM:-0500
TZOFFSETTO:-0600
TZNAME:CST
DTSTART:20241103T070000
END:STANDARD
BEGIN:DAYLIGHT
TZOFFSETFROM:-0600
TZOFFSETTO:-0500
TZNAME:CDT
DTSTART:20250309T080000
END:DAYLIGHT
BEGIN:STANDARD
TZOFFSETFROM:-0500
TZOFFSETTO:-0600
TZNAME:CST
DTSTART:20251102T070000
END:STANDARD
BEGIN:DAYLIGHT
TZOFFSETFROM:-0600
TZOFFSETTO:-0500
TZNAME:CDT
DTSTART:20260308T080000
END:DAYLIGHT
BEGIN:STANDARD
TZOFFSETFROM:-0500
TZOFFSETTO:-0600
TZNAME:CST
DTSTART:20261101T070000
END:STANDARD
END:VTIMEZONE
BEGIN:VEVENT
DTSTART;VALUE=DATE:20250602
DTEND;VALUE=DATE:20250810
DTSTAMP:20260424T123646
CREATED:20250603T150023Z
LAST-MODIFIED:20250603T150209Z
UID:3274-1748822400-1754783999@raycountylibrary.missouri.org
SUMMARY:Summer Reading Program!
DESCRIPTION:Be Inspired\, get creative\, and branch out with your reading this summer as we Color Our World!  With this year’s theme\, we want readers to be inspired and imaginative as they select their reading materials and attend related events. \nThere are two programs\, one for adults and one for children and teens aged 0-18 years.  Participants who register for the program and children/teens who log 600 minutes of reading and adults who log 5 books can earn badges\, free books\, and a chance to win one of this year’s great prizes. \nLog in/register here! \nVisit the ‘Summer Reading” tab at the top of the webpage for more information!
URL:https://raycountylibrary.missouri.org/event/summer-reading-program/
CATEGORIES:All Ages
ATTACH;FMTTYPE=image/png:https://raycountylibrary.missouri.org/wp-content/uploads/2025/06/SRP-2025-Draft.png
END:VEVENT
BEGIN:VEVENT
DTSTART;VALUE=DATE:20250604
DTEND;VALUE=DATE:20250821
DTSTAMP:20260424T123646
CREATED:20250610T142806Z
LAST-MODIFIED:20250610T142806Z
UID:3330-1748995200-1755734399@raycountylibrary.missouri.org
SUMMARY:Food for Fines
DESCRIPTION:Food for Fines is back! We’re collecting canned goods and other nonperishables for the Salvation Army from June 4\, 2025 through August 20\, 2025. 1 food item = $1 in forgiven fines!
URL:https://raycountylibrary.missouri.org/event/food-for-fines-4/
LOCATION:Ray County Library\, 215 E Lexington St\, Richmond\, MO\, 64085\, United States
CATEGORIES:All Ages
ATTACH;FMTTYPE=image/png:https://raycountylibrary.missouri.org/wp-content/uploads/2025/06/new-Food4Fines-Small.png
END:VEVENT
BEGIN:VEVENT
DTSTART;TZID=America/Chicago:20250805T180000
DTEND;TZID=America/Chicago:20250805T190000
DTSTAMP:20260424T123646
CREATED:20250731T174412Z
LAST-MODIFIED:20250731T174412Z
UID:3501-1754416800-1754420400@raycountylibrary.missouri.org
SUMMARY:Book Club
DESCRIPTION:Book Club Meeting where a selected book will be discussed. This month’s book is “This Is Happiness” by Niall Williams. Members can also pick up next month’s book\, “Little Fires Everywhere” by Celeste Ng. Contact the library for details regarding joining the book club.
URL:https://raycountylibrary.missouri.org/event/book-club-34/
LOCATION:Library Community Room
CATEGORIES:Adults
ATTACH;FMTTYPE=image/png:https://raycountylibrary.missouri.org/wp-content/uploads/2025/07/8.5-Book-Club.png
END:VEVENT
BEGIN:VEVENT
DTSTART;TZID=America/Chicago:20250806T100000
DTEND;TZID=America/Chicago:20250806T110000
DTSTAMP:20260424T123646
CREATED:20250731T174653Z
LAST-MODIFIED:20250731T174653Z
UID:3504-1754474400-1754478000@raycountylibrary.missouri.org
SUMMARY:Storytime!
DESCRIPTION:Research shows that children benefit from active participation in early learning activities. Bring your children to this event for stories and craft activities. This week’s theme is frogs!
URL:https://raycountylibrary.missouri.org/event/storytime-125/
LOCATION:Library Community Room
CATEGORIES:Kids
ATTACH;FMTTYPE=image/png:https://raycountylibrary.missouri.org/wp-content/uploads/2025/07/8.6-storytime-Once-Upon-a-Lily-Pad.png
END:VEVENT
BEGIN:VEVENT
DTSTART;TZID=America/Chicago:20250806T170000
DTEND;TZID=America/Chicago:20250806T180000
DTSTAMP:20260424T123646
CREATED:20250731T175613Z
LAST-MODIFIED:20250731T175613Z
UID:3507-1754499600-1754503200@raycountylibrary.missouri.org
SUMMARY:Community Connections Event: Fall Gardening
DESCRIPTION:Join us for a gardening class presented by Kathi Mecham\, an MU Extension Horticulturist. \nThis workshop will cover which vegetables can be grown in the fall\, when to plant\, and how to care for your fall garden. \nRegister Here: https://raycountylibrary.missouri.org/ninja-forms/14n5kf  \nUpcoming programs include Canning Demo and other food preservation classes.
URL:https://raycountylibrary.missouri.org/event/community-connections-event-fall-gardening/
LOCATION:Library Community Room
CATEGORIES:All Ages
ATTACH;FMTTYPE=image/png:https://raycountylibrary.missouri.org/wp-content/uploads/2025/07/8.5.png
END:VEVENT
BEGIN:VEVENT
DTSTART;TZID=America/Chicago:20250807T160000
DTEND;TZID=America/Chicago:20250807T170000
DTSTAMP:20260424T123646
CREATED:20250731T175813Z
LAST-MODIFIED:20250731T175813Z
UID:3512-1754582400-1754586000@raycountylibrary.missouri.org
SUMMARY:Next Chapter Book Club
DESCRIPTION:Helping people with disabilities enjoy books\, friends\, and their community. This is a book club meeting where a selected book will be read and discussed\, in partnership with Special Needs Services of Ray County. Contact the library or Special Needs Services for details regarding joining the book club.
URL:https://raycountylibrary.missouri.org/event/next-chapter-book-club-63/
LOCATION:Library Community Room
CATEGORIES:Adults
ATTACH;FMTTYPE=image/png:https://raycountylibrary.missouri.org/wp-content/uploads/2025/07/8.7-next-chapter-book-club.png
END:VEVENT
BEGIN:VEVENT
DTSTART;TZID=America/Chicago:20250812T180000
DTEND;TZID=America/Chicago:20250812T190000
DTSTAMP:20260424T123646
CREATED:20250731T180019Z
LAST-MODIFIED:20250731T180019Z
UID:3515-1755021600-1755025200@raycountylibrary.missouri.org
SUMMARY:Crafting for Adults: Make Your Own Soap
DESCRIPTION:This month’s craft will be making your own soap! It will be a relaxing evening that offers allows room for creativity in style. All supplies will be provided. Click here to register to attend.
URL:https://raycountylibrary.missouri.org/event/crafting-for-adults-make-your-own-soap/
LOCATION:Library Community Room
CATEGORIES:Adults
ATTACH;FMTTYPE=image/png:https://raycountylibrary.missouri.org/wp-content/uploads/2025/07/8.12-Craft-Night-Make-Your-Own-Scented-Soap-Bar.png
END:VEVENT
BEGIN:VEVENT
DTSTART;TZID=America/Chicago:20250813T100000
DTEND;TZID=America/Chicago:20250813T110000
DTSTAMP:20260424T123646
CREATED:20250731T181551Z
LAST-MODIFIED:20250731T181551Z
UID:3518-1755079200-1755082800@raycountylibrary.missouri.org
SUMMARY:Storytime!
DESCRIPTION:Early Literacy Storytime program for toddlers and preschoolers. This session’s theme is dinosaurs and will include fun stories\, activities\, and a craft!
URL:https://raycountylibrary.missouri.org/event/storytime-126/
LOCATION:Library Community Room
CATEGORIES:Kids
ATTACH;FMTTYPE=image/png:https://raycountylibrary.missouri.org/wp-content/uploads/2025/07/8.13-storytime-Storyasaurus-Rex.png
END:VEVENT
BEGIN:VEVENT
DTSTART;TZID=America/Chicago:20250818T170000
DTEND;TZID=America/Chicago:20250818T180000
DTSTAMP:20260424T123646
CREATED:20250731T181635Z
LAST-MODIFIED:20250731T181635Z
UID:3525-1755536400-1755540000@raycountylibrary.missouri.org
SUMMARY:Ray County Library Board of Trustees Meeting
DESCRIPTION:Monthly Meeting of the Ray County Library Board of Trustees.
URL:https://raycountylibrary.missouri.org/event/ray-county-library-board-of-trustees-meeting-34/
LOCATION:Library Community Room
CATEGORIES:Adults
END:VEVENT
BEGIN:VEVENT
DTSTART;TZID=America/Chicago:20250819T100000
DTEND;TZID=America/Chicago:20250819T110000
DTSTAMP:20260424T123646
CREATED:20250731T182146Z
LAST-MODIFIED:20250731T182146Z
UID:3527-1755597600-1755601200@raycountylibrary.missouri.org
SUMMARY:Senior Life Solutions
DESCRIPTION:To strengthen the health literacy of our patrons\, Senior Life Solutions will present a monthly health information program on the 3rd Tuesday of each month at 10 am in the Library’s Community Room.
URL:https://raycountylibrary.missouri.org/event/senior-life-solutions-11/
LOCATION:Library Community Room
CATEGORIES:Adults
ATTACH;FMTTYPE=image/png:https://raycountylibrary.missouri.org/wp-content/uploads/2025/07/8.19-Senior-Life.png
END:VEVENT
BEGIN:VEVENT
DTSTART;TZID=America/Chicago:20250820T100000
DTEND;TZID=America/Chicago:20250820T110000
DTSTAMP:20260424T123646
CREATED:20250731T183127Z
LAST-MODIFIED:20250731T183127Z
UID:3530-1755684000-1755687600@raycountylibrary.missouri.org
SUMMARY:Storytime!
DESCRIPTION:Research shows that children benefit from active participation in early learning activities. Bring your children to this event for stories and craft activities. This week’s theme is wings and wiggles!
URL:https://raycountylibrary.missouri.org/event/storytime-127/
LOCATION:Library Community Room
CATEGORIES:Kids
ATTACH;FMTTYPE=image/png:https://raycountylibrary.missouri.org/wp-content/uploads/2025/07/8.20-Storytime-Wings-Wiggles.png
END:VEVENT
BEGIN:VEVENT
DTSTART;TZID=America/Chicago:20250820T170000
DTEND;TZID=America/Chicago:20250820T183000
DTSTAMP:20260424T123646
CREATED:20250731T191439Z
LAST-MODIFIED:20250814T201550Z
UID:3534-1755709200-1755714600@raycountylibrary.missouri.org
SUMMARY:Community Connections: Canning Demo
DESCRIPTION:What can you do with all the vegetables harvested in the garden? Let’s learn how to preserve them! \nMU Extension Nutritionist Sue Robinson will guide this introductory class on learning the tools and techniques for at home water bath and pressure canning. \nEvent attendees will have an opportunity to ask questions about their own canning projects. They’ll also be entered into a drawing to receive free canning supplies! \nRegister here to attend: https://raycountylibrary.missouri.org/ninja-forms/15aedo 
URL:https://raycountylibrary.missouri.org/event/community-connections-canning-demo/
LOCATION:Library Community Room
CATEGORIES:Adults
ATTACH;FMTTYPE=image/png:https://raycountylibrary.missouri.org/wp-content/uploads/2025/07/Food-Preservation-Community-Connections-2.png
END:VEVENT
BEGIN:VEVENT
DTSTART;TZID=America/Chicago:20250821T160000
DTEND;TZID=America/Chicago:20250821T170000
DTSTAMP:20260424T123646
CREATED:20250731T191845Z
LAST-MODIFIED:20250731T191845Z
UID:3536-1755792000-1755795600@raycountylibrary.missouri.org
SUMMARY:Next Chapter Book Club
DESCRIPTION:Helping people with disabilities enjoy books\, friends\, and their community. This is a book club meeting where a selected book will be read and discussed\, in partnership with Special Needs Services of Ray County. Contact the library or Special Needs Services for details regarding joining the book club.
URL:https://raycountylibrary.missouri.org/event/next-chapter-book-club-64/
LOCATION:Library Community Room
CATEGORIES:Adults
ATTACH;FMTTYPE=image/png:https://raycountylibrary.missouri.org/wp-content/uploads/2025/07/8.21-next-chapter-book-club.png
END:VEVENT
BEGIN:VEVENT
DTSTART;TZID=America/Chicago:20250826T160000
DTEND;TZID=America/Chicago:20250826T170000
DTSTAMP:20260424T123646
CREATED:20250731T192038Z
LAST-MODIFIED:20250822T190046Z
UID:3539-1756224000-1756227600@raycountylibrary.missouri.org
SUMMARY:Kid Zone STEM: Ice Cream In A Bag!
DESCRIPTION:This month’s kids’ STEM program is ice cream in a bag! This program is best for children in grades 1-5. Supplies and fun are provided!
URL:https://raycountylibrary.missouri.org/event/kid-zone-stem-5/
LOCATION:Library Community Room
CATEGORIES:Kids
ATTACH;FMTTYPE=image/png:https://raycountylibrary.missouri.org/wp-content/uploads/2025/07/8.26-kid-zone-temp-1.png
END:VEVENT
BEGIN:VEVENT
DTSTART;TZID=America/Chicago:20250827T100000
DTEND;TZID=America/Chicago:20250827T110000
DTSTAMP:20260424T123646
CREATED:20250731T192322Z
LAST-MODIFIED:20250731T192322Z
UID:3542-1756288800-1756292400@raycountylibrary.missouri.org
SUMMARY:Storytime!
DESCRIPTION:Early Literacy Storytime program for toddlers and preschoolers. This session’s theme is kindness and will include fun stories\, activities\, and a craft!
URL:https://raycountylibrary.missouri.org/event/storytime-128/
LOCATION:Library Community Room
CATEGORIES:Kids
ATTACH;FMTTYPE=image/png:https://raycountylibrary.missouri.org/wp-content/uploads/2025/07/8.27-storytime-kindness-counts.png
END:VEVENT
END:VCALENDAR