BEGIN:VCALENDAR
VERSION:2.0
PRODID:-//Ray County Library - ECPv6.15.20//NONSGML v1.0//EN
CALSCALE:GREGORIAN
METHOD:PUBLISH
X-WR-CALNAME:Ray County Library
X-ORIGINAL-URL:https://raycountylibrary.missouri.org
X-WR-CALDESC:Events for Ray County Library
REFRESH-INTERVAL;VALUE=DURATION:PT1H
X-Robots-Tag:noindex
X-PUBLISHED-TTL:PT1H
BEGIN:VTIMEZONE
TZID:America/Chicago
BEGIN:DAYLIGHT
TZOFFSETFROM:-0600
TZOFFSETTO:-0500
TZNAME:CDT
DTSTART:20240310T080000
END:DAYLIGHT
BEGIN:STANDARD
TZOFFSETFROM:-0500
TZOFFSETTO:-0600
TZNAME:CST
DTSTART:20241103T070000
END:STANDARD
BEGIN:DAYLIGHT
TZOFFSETFROM:-0600
TZOFFSETTO:-0500
TZNAME:CDT
DTSTART:20250309T080000
END:DAYLIGHT
BEGIN:STANDARD
TZOFFSETFROM:-0500
TZOFFSETTO:-0600
TZNAME:CST
DTSTART:20251102T070000
END:STANDARD
BEGIN:DAYLIGHT
TZOFFSETFROM:-0600
TZOFFSETTO:-0500
TZNAME:CDT
DTSTART:20260308T080000
END:DAYLIGHT
BEGIN:STANDARD
TZOFFSETFROM:-0500
TZOFFSETTO:-0600
TZNAME:CST
DTSTART:20261101T070000
END:STANDARD
END:VTIMEZONE
BEGIN:VEVENT
DTSTART;VALUE=DATE:20250901
DTEND;VALUE=DATE:20250902
DTSTAMP:20260425T170216
CREATED:20250830T162442Z
LAST-MODIFIED:20250830T162442Z
UID:3592-1756684800-1756771199@raycountylibrary.missouri.org
SUMMARY:Closed for Labor Day
DESCRIPTION:The Ray County Library will be closed Monday\, September 1\, 2025 in observance of Labor Day.
URL:https://raycountylibrary.missouri.org/event/closed-for-labor-day-3/
LOCATION:Library Community Room
CATEGORIES:All Ages
ATTACH;FMTTYPE=image/png:https://raycountylibrary.missouri.org/wp-content/uploads/2025/08/9.1-Closed-Labor-Day.png
END:VEVENT
BEGIN:VEVENT
DTSTART;TZID=America/Chicago:20250902T180000
DTEND;TZID=America/Chicago:20250902T190000
DTSTAMP:20260425T170216
CREATED:20250830T174025Z
LAST-MODIFIED:20250830T174025Z
UID:3595-1756836000-1756839600@raycountylibrary.missouri.org
SUMMARY:Book Club
DESCRIPTION:Book Club Meeting where a selected book will be discussed. This month’s book is “Little Fires Everywhere” by Celeste Ng. Members can also pick up next month’s book\, “An Elderly Lady Is Up to No Good” by Helene Turnsten. Contact the library for details regarding joining the book club.
URL:https://raycountylibrary.missouri.org/event/book-club-35/
LOCATION:Library Community Room
CATEGORIES:Adults
ATTACH;FMTTYPE=image/png:https://raycountylibrary.missouri.org/wp-content/uploads/2025/08/9.2-Book-Club.png
END:VEVENT
BEGIN:VEVENT
DTSTART;TZID=America/Chicago:20250903T100000
DTEND;TZID=America/Chicago:20250903T110000
DTSTAMP:20260425T170216
CREATED:20250830T174133Z
LAST-MODIFIED:20250830T174133Z
UID:3598-1756893600-1756897200@raycountylibrary.missouri.org
SUMMARY:Storytime!
DESCRIPTION:Research shows that children benefit from active participation in early learning activities. Bring your children to this event for stories and craft activities. This week’s theme is silly stories!
URL:https://raycountylibrary.missouri.org/event/storytime-129/
LOCATION:Library Community Room
CATEGORIES:Kids
ATTACH;FMTTYPE=image/png:https://raycountylibrary.missouri.org/wp-content/uploads/2025/08/9.3-storytime.png
END:VEVENT
BEGIN:VEVENT
DTSTART;TZID=America/Chicago:20250904T160000
DTEND;TZID=America/Chicago:20250904T170000
DTSTAMP:20260425T170216
CREATED:20250830T174223Z
LAST-MODIFIED:20250830T174223Z
UID:3601-1757001600-1757005200@raycountylibrary.missouri.org
SUMMARY:Next Chapter Book Club
DESCRIPTION:Helping people with disabilities enjoy books\, friends\, and their community. This is a book club meeting where a selected book will be read and discussed\, in partnership with Special Needs Services of Ray County. Contact the library or Special Needs Services for details regarding joining the book club.
URL:https://raycountylibrary.missouri.org/event/next-chapter-book-club-65/
LOCATION:Library Community Room
CATEGORIES:Adults
ATTACH;FMTTYPE=image/png:https://raycountylibrary.missouri.org/wp-content/uploads/2025/08/9.4-next-chapter-book-club.png
END:VEVENT
BEGIN:VEVENT
DTSTART;TZID=America/Chicago:20250908T170000
DTEND;TZID=America/Chicago:20250908T180000
DTSTAMP:20260425T170216
CREATED:20250830T174302Z
LAST-MODIFIED:20250830T174302Z
UID:3604-1757350800-1757354400@raycountylibrary.missouri.org
SUMMARY:Ray County Library Board of Trustees Meeting
DESCRIPTION:Monthly Meeting of the Ray County Library Board of Trustees.
URL:https://raycountylibrary.missouri.org/event/ray-county-library-board-of-trustees-meeting-35/
LOCATION:Library Community Room
CATEGORIES:Adults
END:VEVENT
BEGIN:VEVENT
DTSTART;TZID=America/Chicago:20250909T180000
DTEND;TZID=America/Chicago:20250909T190000
DTSTAMP:20260425T170216
CREATED:20250904T172742Z
LAST-MODIFIED:20250904T172742Z
UID:3614-1757440800-1757444400@raycountylibrary.missouri.org
SUMMARY:Crafting for Adults: Painted Door Mats
DESCRIPTION:This month’s craft will be painting door mats! It will be a relaxing evening that offers allows room for creativity in style. All supplies will be provided. Click here to register to attend.
URL:https://raycountylibrary.missouri.org/event/crafting-for-adults-painted-door-mats/
LOCATION:Library Community Room
CATEGORIES:Adults
ATTACH;FMTTYPE=image/png:https://raycountylibrary.missouri.org/wp-content/uploads/2025/09/9.9-Craft-Night-Painted-Door-Mats.png
END:VEVENT
BEGIN:VEVENT
DTSTART;TZID=America/Chicago:20250910T100000
DTEND;TZID=America/Chicago:20250910T110000
DTSTAMP:20260425T170216
CREATED:20250904T172859Z
LAST-MODIFIED:20250904T172859Z
UID:3617-1757498400-1757502000@raycountylibrary.missouri.org
SUMMARY:Storytime!
DESCRIPTION:Early Literacy Storytime program for toddlers and preschoolers. This session’s theme is apples & orchards and will include fun stories\, activities\, and a craft!
URL:https://raycountylibrary.missouri.org/event/storytime-130/
LOCATION:Library Community Room
CATEGORIES:Kids
ATTACH;FMTTYPE=image/png:https://raycountylibrary.missouri.org/wp-content/uploads/2025/09/9.10-Storytime-Apples-Orchards.png
END:VEVENT
BEGIN:VEVENT
DTSTART;TZID=America/Chicago:20250917T100000
DTEND;TZID=America/Chicago:20250917T110000
DTSTAMP:20260425T170216
CREATED:20250904T172959Z
LAST-MODIFIED:20250904T172959Z
UID:3620-1758103200-1758106800@raycountylibrary.missouri.org
SUMMARY:Storytime!
DESCRIPTION:Research shows that children benefit from active participation in early learning activities. Bring your children to this event for stories and craft activities. This week’s theme is fall!
URL:https://raycountylibrary.missouri.org/event/storytime-131/
LOCATION:Library Community Room
CATEGORIES:Kids
ATTACH;FMTTYPE=image/png:https://raycountylibrary.missouri.org/wp-content/uploads/2025/09/9.17-Storytime-Welcome-Fall.png
END:VEVENT
BEGIN:VEVENT
DTSTART;TZID=America/Chicago:20250917T170000
DTEND;TZID=America/Chicago:20250917T183000
DTSTAMP:20260425T170216
CREATED:20250904T173354Z
LAST-MODIFIED:20250912T182707Z
UID:3623-1758128400-1758133800@raycountylibrary.missouri.org
SUMMARY:Community Connections- Canning Tomatoes
DESCRIPTION:The tomatoes are ready to harvest in the community garden! Thanks to the hard work of the volunteers in the SSS program. \nWe will demonstrate how to can tomatoes so that you can maximize your use of this summer vegetable. \nRegister Here: https://forms.gle/fgHTm45JzN4FS3Ui7 \nEvent attendees will leave with garden fresh canned tomatoes and sample recipes!
URL:https://raycountylibrary.missouri.org/event/community-connections-canning-tomatoes/
LOCATION:Library Community Room
CATEGORIES:Adults
ATTACH;FMTTYPE=image/png:https://raycountylibrary.missouri.org/wp-content/uploads/2025/09/9.17-Community-Connections-Canning-Tomatoes-Workshop.png
END:VEVENT
BEGIN:VEVENT
DTSTART;TZID=America/Chicago:20250918T160000
DTEND;TZID=America/Chicago:20250918T170000
DTSTAMP:20260425T170216
CREATED:20250904T173511Z
LAST-MODIFIED:20250904T173511Z
UID:3626-1758211200-1758214800@raycountylibrary.missouri.org
SUMMARY:Next Chapter Book Club
DESCRIPTION:Helping people with disabilities enjoy books\, friends\, and their community. This is a book club meeting where a selected book will be read and discussed\, in partnership with Special Needs Services of Ray County. Contact the library or Special Needs Services for details regarding joining the book club.
URL:https://raycountylibrary.missouri.org/event/next-chapter-book-club-66/
LOCATION:Library Community Room
CATEGORIES:Adults
ATTACH;FMTTYPE=image/png:https://raycountylibrary.missouri.org/wp-content/uploads/2025/09/9.18-next-chapter-book-club.png
END:VEVENT
BEGIN:VEVENT
DTSTART;TZID=America/Chicago:20250920T100000
DTEND;TZID=America/Chicago:20250920T180000
DTSTAMP:20260425T170216
CREATED:20250904T174732Z
LAST-MODIFIED:20250919T161022Z
UID:3629-1758362400-1758391200@raycountylibrary.missouri.org
SUMMARY:Ray County Farm Crawl- Storytime & Activities
DESCRIPTION:Get Ready for the 2025 Ray County Farm Crawl!  \nMark your calendars for September 20 and join us for a day celebrating local farms\, fresh food\, and family fun! This self-guided tour lets you explore the scenic countryside of Ray County\, visit working farms\, meet the farmers\, and enjoy hands-on activities for kids. Sample farm-fresh products Shop local handmade goods Meet animals and see live demonstrations Fun for the whole family \n“The Farm Crawl is a great way to support local farmers\, learn where food comes from\, and enjoy a day of adventure\,” says Chamber Director Jayne Taylor.Free to attend! Start at any participating farm. Bring comfy shoes\, a cooler for purchases\, and a camera to capture the day.Maps and details are shared in the Richmond News\, on the Chamber website\, and our social media channels.For more info\, call the Richmond Area Chamber of Commerce at (816) 776-6916. \n 
URL:https://raycountylibrary.missouri.org/event/ray-county-farm-crawl-storytime-activities/
CATEGORIES:All Ages
ATTACH;FMTTYPE=image/png:https://raycountylibrary.missouri.org/wp-content/uploads/2025/09/temp-9.20-Farm-Crawl-Storytime-Activities.png
END:VEVENT
BEGIN:VEVENT
DTSTART;TZID=America/Chicago:20250923T160000
DTEND;TZID=America/Chicago:20250923T170000
DTSTAMP:20260425T170216
CREATED:20250904T174918Z
LAST-MODIFIED:20250904T174918Z
UID:3633-1758643200-1758646800@raycountylibrary.missouri.org
SUMMARY:Kid Zone- Inside the Egg: The Science of Chicks
DESCRIPTION:This month’s kids’ STEM program will be about the science of chicks! This program is best for children in grades 1-5. Supplies and fun are provided!
URL:https://raycountylibrary.missouri.org/event/kid-zone-inside-the-egg-the-science-of-chicks/
LOCATION:Library Community Room
CATEGORIES:Kids
ATTACH;FMTTYPE=image/png:https://raycountylibrary.missouri.org/wp-content/uploads/2025/09/9.23-Kid-Zone-STEM-Inside-the-Egg-The-Science-of-Chicks.png
END:VEVENT
BEGIN:VEVENT
DTSTART;TZID=America/Chicago:20250924T100000
DTEND;TZID=America/Chicago:20250924T110000
DTSTAMP:20260425T170216
CREATED:20250904T175029Z
LAST-MODIFIED:20250904T175029Z
UID:3636-1758708000-1758711600@raycountylibrary.missouri.org
SUMMARY:Storytime!
DESCRIPTION:Early Literacy Storytime program for toddlers and preschoolers. This session’s theme is farms and will include fun stories\, activities\, and a craft!
URL:https://raycountylibrary.missouri.org/event/storytime-132/
LOCATION:Library Community Room
CATEGORIES:Kids
ATTACH;FMTTYPE=image/png:https://raycountylibrary.missouri.org/wp-content/uploads/2025/09/9.24-Storytime-On-the-Farm.png
END:VEVENT
BEGIN:VEVENT
DTSTART;TZID=America/Chicago:20250930T180000
DTEND;TZID=America/Chicago:20250930T190000
DTSTAMP:20260425T170216
CREATED:20250910T203323Z
LAST-MODIFIED:20250910T203323Z
UID:3645-1759255200-1759258800@raycountylibrary.missouri.org
SUMMARY:Crafting for Adults: Painted Doormats
DESCRIPTION:Due to high demand\, we’re having a second craft night so everyone who signed up can participate! It will be a relaxing evening that offers allows room for creativity in style. All supplies will be provided.
URL:https://raycountylibrary.missouri.org/event/crafting-for-adults-painted-doormats/
LOCATION:Library Community Room
CATEGORIES:Adults
ATTACH;FMTTYPE=image/png:https://raycountylibrary.missouri.org/wp-content/uploads/2025/09/9.9-Craft-Night-Painted-Door-Mats-1.png
END:VEVENT
END:VCALENDAR